BEGIN:VCALENDAR
VERSION:2.0
PRODID:-//ChamberMaster//Event Calendar 2.0//EN
METHOD:PUBLISH
X-PUBLISHED-TTL:P3D
REFRESH-INTERVAL:P3D
CALSCALE:GREGORIAN
BEGIN:VEVENT
DTSTART:20260423T223000Z
DTEND:20260423T233000Z
X-MICROSOFT-CDO-ALLDAYEVENT:FALSE
SUMMARY:Legislative Updates Town Hall
DESCRIPTION:Topics Covered:\n\n    \n\n	Bills that have passed like the ban on junk fees for renters \n	Protecting LGBTQ+ rights \n	Improving property tax administrative processes \n	Transportation and bike grid updates \n	Expanding the Jett Hawkins Act \n	Weiss Hospital Updates  \n	Progress on the permanent DHS location in Uptown
X-ALT-DESC;FMTTYPE=text/html:Topics Covered:<br />\n&nbsp\;&nbsp\;&nbsp\;&nbsp\;\n<ul style="font-size: small\; color: rgb(34\, 34\, 34)\; font-family: Arial\, Helvetica\, sans-serif\;">\n	<li style="margin-left: 15px\;">Bills that have passed like the ban on junk fees for renters&nbsp\;</li>\n	<li style="margin-left: 15px\;">Protecting LGBTQ+ rights&nbsp\;</li>\n	<li style="margin-left: 15px\;">Improving property tax administrative processes&nbsp\;</li>\n	<li style="margin-left: 15px\;">Transportation and bike grid updates&nbsp\;</li>\n	<li style="margin-left: 15px\;">Expanding the Jett Hawkins Act&nbsp\;</li>\n	<li style="margin-left: 15px\;">Weiss Hospital Updates&nbsp\;&nbsp\;</li>\n	<li style="margin-left: 15px\;">Progress on the permanent DHS location in Uptown</li>\n</ul>\n
LOCATION:Welles Park Fieldhouse (2333 W. Sunnyside Ave)
UID:e.697.54920
SEQUENCE:3
DTSTAMP:20260421T203427Z
URL:https://www.lincolnsquare.org/events/details/legislative-updates-town-hall-54920
END:VEVENT

END:VCALENDAR
