BEGIN:VCALENDAR
VERSION:2.0
PRODID:-//ChamberMaster//Event Calendar 2.0//EN
METHOD:PUBLISH
X-PUBLISHED-TTL:P3D
REFRESH-INTERVAL:P3D
CALSCALE:GREGORIAN
BEGIN:VEVENT
DTSTART:20120818T150000Z
DTEND:20120818T190000Z
X-MICROSOFT-CDO-ALLDAYEVENT:FALSE
SUMMARY:Liberty Tax Service Tax School Open House
DESCRIPTION:Here's your chance to get all of your questions about Liberty's Tax School answered.  Take a look at our materials\, meet the instructors and learn how knowing how to prepare taxes can benefit you.  Explore all job possibilites at Liberty.
X-ALT-DESC;FMTTYPE=text/html:Here&#39\;s your chance to get all of your questions about Liberty&#39\;s Tax School answered.&nbsp\; Take a look at our materials\, meet the instructors and learn how knowing how to prepare taxes can benefit you.&nbsp\; Explore all job possibilites at Liberty.
LOCATION:2342 W. Lawrence Ave. Chicago\, IL 60625
UID:e.697.3615
SEQUENCE:3
DTSTAMP:20260420T185230Z
URL:https://www.lincolnsquare.org/events/details/liberty-tax-service-tax-school-open-house-3615
END:VEVENT

END:VCALENDAR
