BEGIN:VCALENDAR
VERSION:2.0
PRODID:-//ChamberMaster//Event Calendar 2.0//EN
METHOD:PUBLISH
X-PUBLISHED-TTL:P3D
REFRESH-INTERVAL:P3D
CALSCALE:GREGORIAN
BEGIN:VEVENT
DTSTART:20260814T000000Z
DTEND:20260814T023000Z
X-MICROSOFT-CDO-ALLDAYEVENT:FALSE
SUMMARY:Lightwriters Neon Level One - 4-Week Intensive Workshop (Thursday Evenings)
DESCRIPTION:Learn the art of neon! This intensive introductory class teaches basic glass bending\, and science. Each student combines their favorite bends to create their own organically shaped neon!\n\n \n\nThis 4-week\, 10-hour class includes clear glass\, a transformer and mounting hardware. This class meets on four consecutive Thursdays from 7-9:30pm: Thursday Aug 13\, Aug 20\, Aug 27 and Sep 3\n\n \n\nLevel One workshops will cover safety techniques for working with glass and glassblowing torches. No experience required.
X-ALT-DESC;FMTTYPE=text/html:Learn the art of neon! This intensive introductory class teaches basic glass bending\, and science. Each student combines their favorite bends to create their own organically shaped neon!<br />\n&nbsp\;<br />\nThis 4-week\, 10-hour class includes clear glass\, a transformer and mounting hardware. This class meets on four consecutive Thursdays from 7-9:30pm: Thursday Aug 13\, Aug 20\, Aug 27 and Sep 3<br />\n&nbsp\;<br />\nLevel One workshops will cover safety techniques for working with glass and glassblowing torches. No experience required.
LOCATION:4222 N Ravenswood Ave Suite 202 Chicago\, IL 60613
UID:e.697.54917
SEQUENCE:3
DTSTAMP:20260424T191723Z
URL:https://www.lincolnsquare.org/events/details/lightwriters-neon-level-one-4-week-intensive-workshop-thursday-evenings-08-13-2026-54917
END:VEVENT

END:VCALENDAR
