BEGIN:VCALENDAR
VERSION:2.0
PRODID:-//ChamberMaster//Event Calendar 2.0//EN
METHOD:PUBLISH
X-PUBLISHED-TTL:P3D
REFRESH-INTERVAL:P3D
CALSCALE:GREGORIAN
BEGIN:VEVENT
DTSTART;VALUE=DATE:20101203
DTEND;VALUE=DATE:20101205
TRANSP:TRANSPARENT
X-MICROSOFT-CDO-ALLDAYEVENT:TRUE
SUMMARY:Lillstreet Art Center 35th Anniversary Holiday Show & Sale
DESCRIPTION:FOR IMMEDIATE RELEASE\n\n	  \n\nContact Person: Julia Zema\n\nCompany Name: Lillstreet Art Center\n\nTelephone Number: 773-769-4226\n\nFax Number: 773-769-3875\n\nEmail Address: julia@lillstreet.com\n\nLillstreet.com\n\n\n\nLILLSTREET ART CENTER PRESENTS 35th ANNIVERSARY HOLIDAY SHOW & SALE\n\n\n\nChicago\, IL\, November 8\, 2010\n\n\n\nLillstreet Art Center celebrates its 35th Holiday Show & Sale the weekend of December 3rd and 4th. On the 3rd from 6-9pm\, celebrate with Lillstreet\, as it opens its doors for a Holiday Party with live music\, appetizers\, drinks\, and fantastic art. On the 4th from 12-5pm\, take free workshops and observe demonstrations during the Holiday Open House. \n\n	Since opening in 1975\, Lillstreet has hosted a Holiday Show & Sale every year\, completely free and open to the public. Showcasing more than 40 ceramic\, jewelry\, and textile artists\, this sale will be an opportunity to buy one-of-a-kind holiday gifts from independent artists. Visit the shop where journals\, toys\, art supplies\, books\, and much more are available for any art enthusiast. Lillstreet also offers the gift of creativity certificate good for all levels of art classes. After leaving the gallery\, stroll the second floor to meet over 50 artists creating and selling beautiful handmade work right from their studios.  \n\n\n\nOriginally Lillstreet Art Center began in a renovated horse barn in Lincoln Park and has been offering art classes for adults and children in Chicago since 1975. Seven years ago the center relocated to the heart of Ravenswood and is now the biggest art center in the Midwest.  Eight departments fill the three-story building with classes in ceramics\, painting and drawing\, metalsmithing (jewelry)\, digital arts\, textiles\, glass\, and printmaking\, all taught by well-established\, supportive artists. Children's art classes are available all year long with weeklong camps during the summer. Private and group studios line the second floor with over 50 artists. Lillstreet?s community-oriented\, non-academic\, and welcoming creative environment is the perfect place to nurture the artist in everyone.  Stop by the cafe inside\, First Slice\, and enjoy delicious food\, with all proceeds donated to aiding homeless youth.\n\n\n\n\n\n\n\n\n\n\n\nUpcoming Workshops\n\n\n\nSuminagashi \n\nNovember 13th 2-4pm\n\n\n\nHoliday Glass for the Home\n\nNovember 13th & 14th  1:30-4:30\n\n\n\nIlluminated tunnel bracelet\n\nNovember 13th  10am-2pm\n\n\n\nTaste of Enamel\n\nNovember 20th 2-4pm\n\n\n\nFamily Printing on Fabric Workshop\n\nNovember 27th 10am-2pm\n\n\n\n\n\n\n\nLillstreet Art Center\n\n4401 N Ravenswood\n\nChicago\, IL 60640\n\n\n\nMontrose Stop-CTA Brown Line
X-ALT-DESC;FMTTYPE=text/html:FOR IMMEDIATE RELEASE\n<br>	  \n<br>Contact Person: Julia Zema\n<br>Company Name: Lillstreet Art Center\n<br>Telephone Number: 773-769-4226\n<br>Fax Number: 773-769-3875\n<br>Email Address: julia@lillstreet.com\n<br>Lillstreet.com\n<br>\n<br>LILLSTREET ART CENTER PRESENTS 35th ANNIVERSARY HOLIDAY SHOW &amp\; SALE\n<br>\n<br>Chicago\, IL\, November 8\, 2010\n<br>\n<br>Lillstreet Art Center celebrates its 35th Holiday Show &amp\; Sale the weekend of December 3rd and 4th. On the 3rd from 6-9pm\, celebrate with Lillstreet\, as it opens its doors for a Holiday Party with live music\, appetizers\, drinks\, and fantastic art. On the 4th from 12-5pm\, take free workshops and observe demonstrations during the Holiday Open House. \n<br>	Since opening in 1975\, Lillstreet has hosted a Holiday Show &amp\; Sale every year\, completely free and open to the public. Showcasing more than 40 ceramic\, jewelry\, and textile artists\, this sale will be an opportunity to buy one-of-a-kind holiday gifts from independent artists. Visit the shop where journals\, toys\, art supplies\, books\, and much more are available for any art enthusiast. Lillstreet also offers the gift of creativity certificate good for all levels of art classes. After leaving the gallery\, stroll the second floor to meet over 50 artists creating and selling beautiful handmade work right from their studios.  \n<br>\n<br>Originally Lillstreet Art Center began in a renovated horse barn in Lincoln Park and has been offering art classes for adults and children in Chicago since 1975. Seven years ago the center relocated to the heart of Ravenswood and is now the biggest art center in the Midwest.  Eight departments fill the three-story building with classes in ceramics\, painting and drawing\, metalsmithing (jewelry)\, digital arts\, textiles\, glass\, and printmaking\, all taught by well-established\, supportive artists. Children's art classes are available all year long with weeklong camps during the summer. Private and group studios line the second floor with over 50 artists. Lillstreet?s community-oriented\, non-academic\, and welcoming creative environment is the perfect place to nurture the artist in everyone.  Stop by the cafe inside\, First Slice\, and enjoy delicious food\, with all proceeds donated to aiding homeless youth.\n<br>\n<br>\n<br>\n<br>\n<br>\n<br>Upcoming Workshops\n<br>\n<br>Suminagashi \n<br>November 13th 2-4pm\n<br>\n<br>Holiday Glass for the Home\n<br>November 13th &amp\; 14th  1:30-4:30\n<br>\n<br>Illuminated tunnel bracelet\n<br>November 13th  10am-2pm\n<br>\n<br>Taste of Enamel\n<br>November 20th 2-4pm\n<br>\n<br>Family Printing on Fabric Workshop\n<br>November 27th 10am-2pm\n<br>\n<br>\n<br>\n<br>Lillstreet Art Center\n<br>4401 N Ravenswood\n<br>Chicago\, IL 60640\n<br>\n<br>Montrose Stop-CTA Brown Line\n<br>
LOCATION:4401 N Ravenswood Chicago\, IL 60640
UID:e.697.673
SEQUENCE:3
DTSTAMP:20260421T020406Z
URL:https://www.lincolnsquare.org/events/details/lillstreet-art-center-35th-anniversary-holiday-show-sale-673
END:VEVENT

END:VCALENDAR
