BEGIN:VCALENDAR
VERSION:2.0
PRODID:-//ChamberMaster//Event Calendar 2.0//EN
METHOD:PUBLISH
X-PUBLISHED-TTL:P3D
REFRESH-INTERVAL:P3D
CALSCALE:GREGORIAN
BEGIN:VEVENT
DTSTART;VALUE=DATE:20110827
DTEND;VALUE=DATE:20110828
TRANSP:TRANSPARENT
X-MICROSOFT-CDO-ALLDAYEVENT:TRUE
SUMMARY:LILLSTREET: Free Art Workshops for Adults and Children
DESCRIPTION:Pottery Sale+ Brat Grill Out \n\nFirst come\, First serve
X-ALT-DESC;FMTTYPE=text/html:<span class="Apple-style-span" style="border-collapse: collapse\; font-family: 'Times New Roman'\, serif\; font-size: 16px\; line-height: 19px\; color: rgb(0\, 0\, 0)\; "><span style="font-size: 8.5pt\; font-family: Tahoma\, sans-serif\; color: rgb(51\, 51\, 51)\; ">Pottery Sale+ Brat Grill Out&nbsp\;</span></span><br />\n<span class="Apple-style-span" style="border-collapse: collapse\; font-family: 'Times New Roman'\, serif\; font-size: 16px\; line-height: 19px\; color: rgb(0\, 0\, 0)\; "><span style="font-size: 8.5pt\; font-family: Tahoma\, sans-serif\; color: rgb(51\, 51\, 51)\; ">First come\, First serve</span></span><br />\n<br />\n
LOCATION:LILLSTREET Art Center
UID:e.697.1101
SEQUENCE:3
DTSTAMP:20260420T125331Z
URL:https://www.lincolnsquare.org/events/details/lillstreet-free-art-workshops-for-adults-and-children-1101
END:VEVENT

END:VCALENDAR
