BEGIN:VCALENDAR
VERSION:2.0
PRODID:-//ChamberMaster//Event Calendar 2.0//EN
METHOD:PUBLISH
X-PUBLISHED-TTL:P3D
REFRESH-INTERVAL:P3D
CALSCALE:GREGORIAN
BEGIN:VEVENT
DTSTART:20120812T170000Z
DTEND:20120812T210000Z
X-MICROSOFT-CDO-ALLDAYEVENT:FALSE
SUMMARY:Lillstreet's Artisan Wedding Fair
DESCRIPTION:Spend an intimate afternoon planning your special day at Lillstreet Art Center's Artisan Wedding Fair. Interact with a carefully selected gathering of artistic vendors who specialize in handcrafted\, custom products and services. Meet jewelry artists who can discuss creating your perfect wedding ring or one-of-a-kind gifts for your bridal party. View gorgeous handmade place settings from Lillstreet's exclusive dishware collection and learn how to sign up for a custom dish registry with Lillstreet Gallery. Talk with Mignonette Bridal about designing your dream wedding gown while instrumental live guitar fills the room. Take home a handkerchief\, made by you\, during one of our free demonstrations where you can experience a taste of our custom art-party activities for your bachelorette party or wedding shower. End the day with a tour of Lillstreet\, while you sip on bespoke cocktails and nosh on gourmet nibbles.\n\nThis event has a focus on local vedors! Please join us for this exciting event.
X-ALT-DESC;FMTTYPE=text/html:Spend an intimate afternoon planning your special day at Lillstreet Art Center&#39\;s Artisan Wedding Fair. Interact with a carefully selected gathering of artistic vendors who specialize in handcrafted\, custom products and services. Meet jewelry artists who can discuss creating your perfect wedding ring or one-of-a-kind gifts for your bridal party. View gorgeous handmade place settings from Lillstreet&#39\;s exclusive dishware collection and learn how to sign up for a custom dish registry with Lillstreet Gallery. Talk with Mignonette Bridal about designing your dream wedding gown while instrumental live guitar fills the room. Take home a handkerchief\, made by you\, during one of our free demonstrations where you can experience a taste of our custom art-party activities for your bachelorette party or wedding shower. End the day with a tour of Lillstreet\, while you sip on bespoke cocktails and nosh on gourmet nibbles.<br />\nThis event has a focus on local vedors! Please join us for this exciting event.
LOCATION:Lillstreet Art Center & Gallery
UID:e.697.3566
SEQUENCE:3
DTSTAMP:20260420T171153Z
URL:https://www.lincolnsquare.org/events/details/lillstreet-s-artisan-wedding-fair-3566
END:VEVENT

END:VCALENDAR
