BEGIN:VCALENDAR
VERSION:2.0
PRODID:-//ChamberMaster//Event Calendar 2.0//EN
METHOD:PUBLISH
X-PUBLISHED-TTL:P3D
REFRESH-INTERVAL:P3D
CALSCALE:GREGORIAN
BEGIN:VEVENT
DTSTART:20100511T223000Z
DTEND:20100511T233000Z
X-MICROSOFT-CDO-ALLDAYEVENT:FALSE
SUMMARY:Lincoln Sq/Northcenter Chamber Mixer
DESCRIPTION:We all know how important it is to network and build business to business relationships- especially in these hard times! What better way to create even more by joining us on Tuesday May 11th\, 2010. We will be mingling with Northcenter Chamber of Commerce for an apres work happy hour! (Must register online!)  The Bad Apple4300 N Lincoln Ave.Tuesday\, May 11th5:30-6:30pm$10(Includes 2 house drinks & Appetizers!)
X-ALT-DESC;FMTTYPE=text/html:<div><div><div id="pastedDivNode" name="pastedNode" style="display: inline"><font color="#000000" style="font-size: 12pt">We all know how important it is to network and build business to business relationships- especially in these hard times! What better way to create even more by joining us on Tuesday May 11th\, 2010. We will be mingling with Northcenter Chamber of Commerce for an apres&nbsp\;work happy hour!&nbsp\;(Must register online!)</font></div><div id="pastedDivNode" name="pastedNode" style="display: inline">&nbsp\;</div></div><div>&nbsp\;</div><div>The Bad Apple</div><div>4300 N Lincoln Ave.</div><div>Tuesday\, May 11th</div><div>5:30-6:30pm</div><div>$10</div><div>(Includes 2 house drinks &amp\; Appetizers!)</div></div>
LOCATION:The Bad Apple4300 N Lincoln
UID:e.697.467
SEQUENCE:3
DTSTAMP:20260421T124038Z
URL:https://www.lincolnsquare.org/events/details/lincoln-sq-northcenter-chamber-mixer-467
END:VEVENT

END:VCALENDAR
