BEGIN:VCALENDAR
VERSION:2.0
PRODID:-//ChamberMaster//Event Calendar 2.0//EN
METHOD:PUBLISH
X-PUBLISHED-TTL:P3D
REFRESH-INTERVAL:P3D
CALSCALE:GREGORIAN
BEGIN:VEVENT
DTSTART:20110519T220000Z
DTEND:20110520T010000Z
X-MICROSOFT-CDO-ALLDAYEVENT:FALSE
SUMMARY:Lincoln Square Athletic Club Preview Tours
DESCRIPTION:~ Special Event @ Lincoln Square Athletic Club- 4662 N. Lincoln Ave~\n\n	                                          \n\n	Take a sneak preview tour of our newest club before it opens!\n\n	                                                                     \n\n	Thursday\, May 19th 5pm-8pm\n\n	\n\n	FREE Turbo Kick Class 6pm-7pm RSVP Call:773.529.2023
X-ALT-DESC;FMTTYPE=text/html:&nbsp\; &nbsp\; &nbsp\; &nbsp\; &nbsp\; &nbsp\; &nbsp\; &nbsp\; &nbsp\; &nbsp\; &nbsp\; &nbsp\; &nbsp\; &nbsp\; &nbsp\; &nbsp\; &nbsp\;&nbsp\;\n<p style="text-align: center\;">\n	<span style="color: rgb(255\, 0\, 0)\;">~ Special Event @ Lincoln Square Athletic Club- 4662 N. Lincoln Ave~<br />\n	&nbsp\; &nbsp\; &nbsp\; &nbsp\; &nbsp\; &nbsp\; &nbsp\; &nbsp\; &nbsp\; &nbsp\; &nbsp\; &nbsp\; &nbsp\; &nbsp\; &nbsp\; &nbsp\; &nbsp\; &nbsp\; &nbsp\; &nbsp\; &nbsp\;&nbsp\;</span><br />\n	<span style="color: rgb(0\, 0\, 128)\;">Take a sneak preview tour of our newest club before it opens!<br />\n	&nbsp\; &nbsp\; &nbsp\; &nbsp\; &nbsp\; &nbsp\; &nbsp\; &nbsp\; &nbsp\; &nbsp\; &nbsp\; &nbsp\; &nbsp\; &nbsp\; &nbsp\; &nbsp\; &nbsp\; &nbsp\; &nbsp\; &nbsp\; &nbsp\; &nbsp\; &nbsp\; &nbsp\; &nbsp\; &nbsp\; &nbsp\; &nbsp\; &nbsp\; &nbsp\; &nbsp\; &nbsp\; &nbsp\; &nbsp\; &nbsp\;<br />\n	Thursday\, May 19th 5pm-8pm</span><br />\n	<br />\n	<span style="color: rgb(0\, 0\, 128)\;">FREE Turbo Kick Class 6pm-7pm RSVP Call:773.529.2023</span></p>\n
LOCATION:4662 N. Lincoln Avenue
UID:e.697.877
SEQUENCE:3
DTSTAMP:20260420T174902Z
URL:https://www.lincolnsquare.org/events/details/lincoln-square-athletic-club-preview-tours-877
END:VEVENT

END:VCALENDAR
