BEGIN:VCALENDAR
VERSION:2.0
PRODID:-//ChamberMaster//Event Calendar 2.0//EN
METHOD:PUBLISH
X-PUBLISHED-TTL:P3D
REFRESH-INTERVAL:P3D
CALSCALE:GREGORIAN
BEGIN:VEVENT
DTSTART;VALUE=DATE:20100717
DTEND;VALUE=DATE:20100719
TRANSP:TRANSPARENT
X-MICROSOFT-CDO-ALLDAYEVENT:TRUE
SUMMARY:Lincoln Square Block Party
DESCRIPTION:Lincoln Square's premier outdoor block party! Just the name conjures up happy summer memories. We will be closing down the 4700 block of Lincoln Avenue to traffic and creating a good old fashion block party.   Click Here for Vendor Application Click Here for Food Vendor Application  Click Here for Sponsoring an Activity
X-ALT-DESC;FMTTYPE=text/html:<div><p class="MsoNormal" style="text-align: center\; margin: 0in 0in 0pt 0.5in">&nbsp\;</p><p class="MsoNormal" style="text-align: center\; margin: 0in 0in 0pt 0.5in"><span style="font-family: Verdana">&nbsp\;</span></p><div style="text-align: center\; margin: 0in 0in 0pt 0.5in"><span style="font-family: Verdana">Lincoln Square&rsquo\;s premier outdoor block party! </span></div><p class="MsoNormal" style="text-align: center\; margin: 0in 0in 0pt 0.5in"><span style="font-family: Verdana"><span style="mso-bidi-font-family: Arial">Just the name conjures up happy summer memories. We will be closing down the 4700 block of Lincoln Avenue to traffic and creating a good old fashion block party. </span></span></p><p class="MsoNormal" style="text-align: center\; margin: 0in 0in 0pt 0.5in">&nbsp\;</p><p class="MsoNormal" style="text-align: center\; margin: 0in 0in 0pt 0.5in">&nbsp\;</p><p class="MsoNormal" style="text-align: center\; margin: 0in 0in 0pt 0.5in"><span style="font-family: Verdana"><span style="mso-bidi-font-family: Arial"><a href="http://secure.chambermaster.com/FCKeditor/UserFiles/chambers/697/File/LSCC%20Summer%20Block%20Party%20Application%202010.pdf">Click Here for Vendor Application</a></span></span></p><p class="MsoNormal" style="text-align: center\; margin: 0in 0in 0pt 0.5in">&nbsp\;</p><p class="MsoNormal" style="text-align: center\; margin: 0in 0in 0pt 0.5in"><a href="http://secure.chambermaster.com/FCKeditor/UserFiles/chambers/697/File/LSCC%20Summer%20Block%20Party%20Application%202010-%20food.pdf"><span style="font-family: Verdana">Click Here for Food Vendor Application</span></a><span style="font-family: Verdana">&nbsp\;</span></p><p class="MsoNormal" style="text-align: center\; margin: 0in 0in 0pt 0.5in">&nbsp\;</p><p class="MsoNormal" style="text-align: center\; margin: 0in 0in 0pt 0.5in"><span style="font-family: Verdana"><a href="http://secure.chambermaster.com/FCKeditor/UserFiles/chambers/697/File/LSCC%20Summer%20Block%20Party%20Application%202010-%20Activity.pdf">Click Here for Sponsoring an Activity </a></span></p><p class="MsoNormal" style="text-align: center\; margin: 0in 0in 0pt 0.5in">&nbsp\;</p><p class="MsoNormal" style="text-align: center\; margin: 0in 0in 0pt 0.5in">&nbsp\;</p></div>
LOCATION:4700 Block of Lincoln Avenue
UID:e.697.59
SEQUENCE:3
DTSTAMP:20260421T092350Z
URL:https://www.lincolnsquare.org/events/details/lincoln-square-block-party-59
END:VEVENT

END:VCALENDAR
