BEGIN:VCALENDAR
VERSION:2.0
PRODID:-//ChamberMaster//Event Calendar 2.0//EN
METHOD:PUBLISH
X-PUBLISHED-TTL:P3D
REFRESH-INTERVAL:P3D
CALSCALE:GREGORIAN
BEGIN:VEVENT
DTSTART;VALUE=DATE:20101203
DTEND;VALUE=DATE:20101206
TRANSP:TRANSPARENT
X-MICROSOFT-CDO-ALLDAYEVENT:TRUE
SUMMARY:Lincoln Square Christkindl Market
DESCRIPTION:Strolling musicians\, roasted chestnuts\, ice sculptures and Christmas decorations will adorn the square. Under the big tent\, traditional German food\, bratwurst\, potato pancakes\, goulash and apple strudel will tempt your taste buds. Sip on warm Gluhwein as you listen to traditional Christmas carols.\n\nLeave the hustle and bustle of downtown shopping\, downtown. Relax\, stroll and shop among the dozens of vendors and merchants in Lincoln Square. Discover a wide range of unique German products in the square. Under the big tent you'll find charming boutiques filled with artisan crafts\, homemade jams\, jellies and chocolates.\n\n\n\nBut that's not all...\n\nbring the children to the Kids Korner where they can decorate cookies\, make-and-take special ornaments or gifts\, play games or have their face painted. Have your picture taken with St. Nicholas. And don't miss the tree lighting ceremony on December 5th.
X-ALT-DESC;FMTTYPE=text/html:Strolling musicians\, roasted chestnuts\, ice sculptures and Christmas decorations will adorn the square. Under the big tent\, traditional German food\, bratwurst\, potato pancakes\, goulash and apple strudel will tempt your taste buds. Sip on warm Gluhwein as you listen to traditional Christmas carols.\n<br>Leave the hustle and bustle of downtown shopping\, downtown. Relax\, stroll and shop among the dozens of vendors and merchants in Lincoln Square. Discover a wide range of unique German products in the square. Under the big tent you'll find charming boutiques filled with artisan crafts\, homemade jams\, jellies and chocolates.\n<br>\n<br>But that's not all...\n<br>bring the children to the Kids Korner where they can decorate cookies\, make-and-take special ornaments or gifts\, play games or have their face painted. Have your picture taken with St. Nicholas. And don't miss the tree lighting ceremony on December 5th.
LOCATION:Lincoln & Leland Under the Big Heated Tent
UID:e.697.505
SEQUENCE:3
DTSTAMP:20260421T015949Z
URL:https://www.lincolnsquare.org/events/details/lincoln-square-christkindl-market-505
END:VEVENT

END:VCALENDAR
