BEGIN:VCALENDAR
VERSION:2.0
PRODID:-//ChamberMaster//Event Calendar 2.0//EN
METHOD:PUBLISH
X-PUBLISHED-TTL:P3D
REFRESH-INTERVAL:P3D
CALSCALE:GREGORIAN
BEGIN:VEVENT
DTSTART:20111203T223000Z
DTEND:20111203T230000Z
X-MICROSOFT-CDO-ALLDAYEVENT:FALSE
SUMMARY:Lincoln Square Christmas Tree Lighting
DESCRIPTION:Join the Lincoln Square Chamber of Commerce and 47th Ward Alderman Ameya Pawar for the Ceremonial Lighting of the Lincoln Square Christmas Tree in Giddings Plaza!\n\n	\n\n	  Saturday\, December 4th at 4:30pm\n\n	With a Special Perfomance by\n\n	The Deutsch-Amerikanischer Kinderchor\n\n	 \n\n	\n\n	\n\n	WithWith
X-ALT-DESC;FMTTYPE=text/html:<p style="text-align: center">\n	<br />\n	<span style="font-size: 16px"><span style="font-family: verdana"><strong>Join the Lincoln Square Chamber of Commerce and 47th Ward Alderman Ameya Pawar for the Ceremonial Lighting of the&nbsp\;Lincoln Square Christmas Tree in Giddings Plaza!<br />\n	<br />\n	<span _fck_bookmark="1" style="display: none">&nbsp\;</span><span _fck_bookmark="1" style="display: none">&nbsp\;</span></strong><span style="color: #b22222"><em>Saturday\, December 4th at 4:30pm<br />\n	With a&nbsp\;Special Perfomance by<br />\n	The Deutsch-Amerikanischer Kinderchor</em></span></span></span><br />\n	&nbsp\;</p>\n<p style="text-align: center">\n	<br />\n	<br />\n	<em><span style="font-size: 16px"><span style="font-family: verdana"><span _fck_bookmark="1" style="display: none">WithWith&nbsp\;</span></span></span></em><span style="font-size: 16px"><span style="font-family: verdana"><span _fck_bookmark="1" style="display: none">&nbsp\;</span></span></span></p>\n
LOCATION:Giddings Plaza 4700 Block of N. Lincoln Avenue
UID:e.697.2218
SEQUENCE:3
DTSTAMP:20260420T060835Z
URL:https://www.lincolnsquare.org/events/details/lincoln-square-christmas-tree-lighting-2218
END:VEVENT

END:VCALENDAR
