BEGIN:VCALENDAR
VERSION:2.0
PRODID:-//ChamberMaster//Event Calendar 2.0//EN
METHOD:PUBLISH
X-PUBLISHED-TTL:P3D
REFRESH-INTERVAL:P3D
CALSCALE:GREGORIAN
BEGIN:VEVENT
DTSTART:20101105T000000Z
DTEND:20101105T023000Z
X-MICROSOFT-CDO-ALLDAYEVENT:FALSE
SUMMARY:Lincoln Square Fall Wine Stroll
DESCRIPTION:COMPLETELY SOLD OUT!\n\n		\n\n		Stroll through Lincoln Square "Wine Country\," tasting great fall & winter vino paired with delicious hors d' oeuvres at several Lincoln Square establishments.\n\n		\n\n		Choose between two routes:\n\n		\n\n		'Shiraz Route': $40 per person\n\n		The Book Cellar\, Steve Quick Jewelers\, Provenance Food & Wine\, The Bad Dog Tavern\, Planet Access\, LM\, & La Bocca della Verita.\n\n		\n\n		'Chardonnay': $40 per person\n\n		Enjoy\, Sacred Art\, Grafton\, Pizza DOC\, Cafe Selmarie\, Trattoria Trullo\, & Fine Wine Brokers.\n\n		\n\n		Or choose both for $60\n\n		\n\n		***Both routes will have red & white wines.
X-ALT-DESC;FMTTYPE=text/html:<div>\n	<div style="text-align: left\; margin: 0in 0in 0pt 0.5in">\n		<span style="font-family: verdana"><strong>COMPLETELY SOLD OUT!</strong><br />\n		<br />\n		Stroll through Lincoln Square &ldquo\;Wine Country\,&rdquo\; tasting great fall &amp\; winter vino paired with delicious hors d&rsquo\; oeuvres at several Lincoln Square establishments.<br />\n		<br />\n		Choose between two routes:<br />\n		<br />\n		&#39\;Shiraz Route&#39\;: $40 per person<br />\n		The Book Cellar\, Steve Quick Jewelers\, Provenance Food &amp\; Wine\, The Bad Dog Tavern\, Planet Access\, LM\, &amp\; La Bocca della Verita.<br />\n		<br />\n		&#39\;Chardonnay&#39\;: $40 per person<br />\n		Enjoy\, Sacred Art\, Grafton\, Pizza DOC\, Cafe Selmarie\, Trattoria Trullo\, &amp\; Fine Wine Brokers.<br />\n		<br />\n		Or choose both for $60<br />\n		<br />\n		***Both routes will have red &amp\; white wines.</span><br />\n		<br />\n		&nbsp\;</div>\n</div>\n
LOCATION:Check in begins at the DANK Haus at 4740 N. Western Ave. Grab your wine glass and begin your stroll!
UID:e.697.62
SEQUENCE:3
DTSTAMP:20260421T031713Z
URL:https://www.lincolnsquare.org/events/details/lincoln-square-fall-wine-stroll-62
END:VEVENT

END:VCALENDAR
