BEGIN:VCALENDAR
VERSION:2.0
PRODID:-//ChamberMaster//Event Calendar 2.0//EN
METHOD:PUBLISH
X-PUBLISHED-TTL:P3D
REFRESH-INTERVAL:P3D
CALSCALE:GREGORIAN
BEGIN:VEVENT
DTSTART:20100420T170000Z
DTEND:20100420T180000Z
X-MICROSOFT-CDO-ALLDAYEVENT:FALSE
SUMMARY:LSCC Marketing & Promotions Meeting
DESCRIPTION:Markerting & Promotions Committee for Lincoln Square Chamber of Commerce
X-ALT-DESC;FMTTYPE=text/html:<div>\n	Markerting &amp\; Promotions&nbsp\;Committee for Lincoln Square Chamber of Commerce</div>\n
LOCATION:Lincoln Square Chamber Offices 4732 N Lincoln Ave
UID:e.697.39
SEQUENCE:3
DTSTAMP:20260421T154757Z
URL:https://www.lincolnsquare.org/events/details/lscc-promotions-marketing-meeting-04-28-2010-39
END:VEVENT

END:VCALENDAR
