BEGIN:VCALENDAR
VERSION:2.0
PRODID:-//ChamberMaster//Event Calendar 2.0//EN
METHOD:PUBLISH
X-PUBLISHED-TTL:P3D
REFRESH-INTERVAL:P3D
CALSCALE:GREGORIAN
BEGIN:VEVENT
DTSTART:20101121T160000Z
DTEND:20101121T210000Z
X-MICROSOFT-CDO-ALLDAYEVENT:FALSE
SUMMARY:Luther Memorial Church Holiday Market
DESCRIPTION:All are invited to the Sixth Annual Holiday Market fundraiser event at Luther Memorial Church of Chicago\, 2500 W. Wilson Ave.\, for some holiday shopping and cheer\, including:\n\n\n\nÂ·         Handcrafted gift items & fresh holiday wreaths\n\n\n\nÂ·         Delicious lunch\, holiday cookies & other goodies\n\n\n\nÂ·         Raffle drawing & childrenï¿½??s holiday tree prizes\n\n\n\n \n\n\n\nEvent proceeds will benefit educational programs and childrenï¿½??s activities at: Thomas J. Waters Elementary School in Lincoln Square\, Grace Lutheran School in Chicagoï¿½??s Pilsen Neighborhood\, and the schools of the Evangelical Lutheran Church in Jordan and the Holy Land. We are also requesting supplemental funds from Thrivent Financial for Lutherans. For more information\, call the church office (773/539-3018) or visit the "Happenings" section of the church Web site (http://www.luthermemorialchicago.org/happenings.htm).
X-ALT-DESC;FMTTYPE=text/html:All are invited to the Sixth Annual Holiday Market fundraiser event at Luther Memorial Church of Chicago\, 2500 W. Wilson Ave.\, for some holiday shopping and cheer\, including:\n<br>\n<br>Â·         Handcrafted gift items &amp\; fresh holiday wreaths\n<br>\n<br>Â·         Delicious lunch\, holiday cookies &amp\; other goodies\n<br>\n<br>Â·         Raffle drawing &amp\; childrenï¿½??s holiday tree prizes\n<br>\n<br> \n<br>\n<br>Event proceeds will benefit educational programs and childrenï¿½??s activities at: Thomas J. Waters Elementary School in Lincoln Square\, Grace Lutheran School in Chicagoï¿½??s Pilsen Neighborhood\, and the schools of the Evangelical Lutheran Church in Jordan and the Holy Land. We are also requesting supplemental funds from Thrivent Financial for Lutherans. For more information\, call the church office (773/539-3018) or visit the "Happenings" section of the church Web site (http://www.luthermemorialchicago.org/happenings.htm). 
LOCATION:2500 W Wilson Ave
UID:e.697.667
SEQUENCE:3
DTSTAMP:20260421T033504Z
URL:https://www.lincolnsquare.org/events/details/luther-memorial-church-holiday-market-667
END:VEVENT

END:VCALENDAR
