BEGIN:VCALENDAR
VERSION:2.0
PRODID:-//ChamberMaster//Event Calendar 2.0//EN
METHOD:PUBLISH
X-PUBLISHED-TTL:P3D
REFRESH-INTERVAL:P3D
CALSCALE:GREGORIAN
BEGIN:VEVENT
DTSTART:20120512T203000Z
DTEND:20120512T210000Z
X-MICROSOFT-CDO-ALLDAYEVENT:FALSE
SUMMARY:LYMPHATIC DRAINAGE MASSAGE FOR SINUS PRESSURE DEMONSTRATION
DESCRIPTION:FREE DEMONSTRATION AND Q&A on LYMPHATIC DRAINAGE MASSAGE for SINUS PRESSURE RELIEF\n\n\n\nJoin us Saturday\, May 12th at 4:30 pm\, the demonstration is free and all are welcome. Pre-registration is required at the events section of our website: www.RennWellness.com and is hosted by Ravenswood Chiropractic & Wellness Center at 5215 North Ravenswood\, Suite 105\, Chicago\, IL 60640. For more information please call us at 773.878.7330.
X-ALT-DESC;FMTTYPE=text/html:FREE DEMONSTRATION AND Q&amp\;A on LYMPHATIC DRAINAGE MASSAGE for SINUS PRESSURE RELIEF<br />\n<br />\nJoin us Saturday\, May 12th at 4:30 pm\, the demonstration is free and all are welcome. Pre-registration is required at the events section of our website: www.RennWellness.com and is hosted by Ravenswood Chiropractic &amp\; Wellness Center at 5215 North Ravenswood\, Suite 105\, Chicago\, IL 60640. For more information please call us at 773.878.7330.<br />\n<br />\n
LOCATION:5215 N. Ravenswood Ave. Suite 105\, Chicago\, IL 60640
UID:e.697.2559
SEQUENCE:3
DTSTAMP:20260419T221508Z
URL:https://www.lincolnsquare.org/events/details/lymphatic-drainage-massage-for-sinus-pressure-demonstration-2559
END:VEVENT

END:VCALENDAR
