BEGIN:VCALENDAR
VERSION:2.0
PRODID:-//ChamberMaster//Event Calendar 2.0//EN
METHOD:PUBLISH
X-PUBLISHED-TTL:P3D
REFRESH-INTERVAL:P3D
CALSCALE:GREGORIAN
BEGIN:VEVENT
DTSTART:20120207T190000Z
DTEND:20120207T190000Z
X-MICROSOFT-CDO-ALLDAYEVENT:FALSE
SUMMARY:Maple School Jazz Band
DESCRIPTION:Glenview's Maple Middle School Jazz Band! Playing live in the auditorium!
X-ALT-DESC;FMTTYPE=text/html:Glenview&#39\;s Maple Middle School Jazz Band! Playing live in the auditorium!
LOCATION:Bethany Retirement Community 4950 N. Ashland. Chicago\, IL 60640.
UID:e.697.2464
SEQUENCE:3
DTSTAMP:20260420T031846Z
URL:https://www.lincolnsquare.org/events/details/maple-school-jazz-band-2464
END:VEVENT

END:VCALENDAR
