BEGIN:VCALENDAR
VERSION:2.0
PRODID:-//ChamberMaster//Event Calendar 2.0//EN
METHOD:PUBLISH
X-PUBLISHED-TTL:P3D
REFRESH-INTERVAL:P3D
CALSCALE:GREGORIAN
BEGIN:VEVENT
DTSTART:20110315T170000Z
DTEND:20110315T183000Z
X-MICROSOFT-CDO-ALLDAYEVENT:FALSE
SUMMARY:March Membership Gathering
DESCRIPTION:***Joining us will be alderman elect of the 47th Ward Ameya Pawar.  \n\n	\n\n	Learn about what is coming up to promote your business this spring and summer.  Don't miss your chance to participate in the new Third Thursday series\, "What's Cooking in Lincoln Square"\, or the wildly popular Apple Fest in its 24thyear.  Learn how to take advantage of our PR program\, kiosk\, and our new mobile website.\n\n	\n\n	Limited space!
X-ALT-DESC;FMTTYPE=text/html:<p>\n	<span style="font-family: arial"><span style="font-size: medium"><font face="Arial" size="3">***Joining us will be alderman elect of the 47th Ward Ameya Pawar.&nbsp\;<span _fck_bookmark="1" style="display: none">&nbsp\;</span></font><br />\n	<br />\n	Learn about what is coming up to promote your business this spring and summer.&nbsp\; Don&#39\;t miss your chance to participate in the new Third Thursday series\, &quot\;What&#39\;s Cooking in Lincoln Square&quot\;\, or the wildly popular Apple Fest in its 24</span><sup><span style="font-size: small">th</span></sup></span><span style="font-size: medium"><span style="font-family: arial">year.&nbsp\; Learn how to take advantage of our PR program\, kiosk\, and our new mobile website.<br />\n	<br />\n	Limited space!</span></span><br />\n	<br />\n	&nbsp\;</p>\n
LOCATION:LM le Restaurant 4539 N Lincoln Ave
UID:e.697.770
SEQUENCE:3
DTSTAMP:20260420T204936Z
URL:https://www.lincolnsquare.org/events/details/march-membership-gathering-770
END:VEVENT

END:VCALENDAR
