BEGIN:VCALENDAR
VERSION:2.0
PRODID:-//ChamberMaster//Event Calendar 2.0//EN
METHOD:PUBLISH
X-PUBLISHED-TTL:P3D
REFRESH-INTERVAL:P3D
CALSCALE:GREGORIAN
BEGIN:VEVENT
DTSTART:20110524T170000Z
DTEND:20110524T183000Z
X-MICROSOFT-CDO-ALLDAYEVENT:FALSE
SUMMARY:May Membership Gathering
DESCRIPTION:This month's Membership Gathering is intended to help you navigate through the world of Public Relations.  On Tuesday\, May 24 sit down with you fellow Chamber Members for an afternoon of breakout sessions intended to assist you in enhancing you PR skills.  Three experts from the field of Public Relations will be on hand to shed light on the complexities of PR.  Breakout session topics include:\n\n	 \n\n	\n		\n			Fine Tuning Your Press Release / Media Alert\n	\n	\n		\n			How to Speak with the Press\n	\n	\n		\n			 Social Media - The Basics and How to Keep Up\n	\n\n\n	\n\n	Bring your laptops\, press releases and media alerts because when you leave this session we want you to take away information you can put into practice immediately.
X-ALT-DESC;FMTTYPE=text/html:<p>\n	<br />\n	<span style="font-size: 12px"><span style="font-family: arial">This month&#39\;s Membership Gathering is intended to help you navigate through the world of Public Relations.&nbsp\; On Tuesday\, May 24 sit down with you fellow Chamber Members for an afternoon of breakout sessions intended to assist you in enhancing you PR skills.&nbsp\; Three experts from the field of Public Relations will be on hand to shed light on the complexities of PR.&nbsp\; Breakout session topics include:</span></span><br />\n	&nbsp\;</p>\n<ol>\n	<li _mce_style="text-align: justify\; margin-top: 0px\; margin-bottom: 0px\;" align="justify" style="text-align: justify\; margin-top: 0px\; margin-bottom: 0px">\n		<p>\n			<span style="font-size: 12px"><span style="font-family: arial">Fine Tuning Your Press Release / Media Alert</span></span></p>\n	</li>\n	<li _mce_style="text-align: justify\; margin-top: 0px\; margin-bottom: 0px\;" align="justify" style="text-align: justify\; margin-top: 0px\; margin-bottom: 0px">\n		<p>\n			<span style="font-size: 12px"><span style="font-family: arial">How to Speak with the Press</span></span></p>\n	</li>\n	<li _mce_style="text-align: justify\; margin-top: 0px\; margin-bottom: 0px\;" align="justify" style="text-align: justify\; margin-top: 0px\; margin-bottom: 0px">\n		<p>\n			<span _fck_bookmark="1" style="display: none">&nbsp\;</span><span style="font-size: 12px"><span style="font-family: arial">Social Media - The Basics and How to Keep Up</span></span></p>\n	</li>\n</ol>\n<p>\n	<br />\n	<span style="font-size: 12px"><span style="font-family: arial">Bring your laptops\, press </span></span><span style="font-size: 12px"><span style="font-family: arial">releases and media alerts because when you leave this session we want you to take away information you can put into practice immediately. </span></span><br />\n	&nbsp\;</p>\n
LOCATION:Old Town School of Folk Music (Main Auditorium) 4544 N. Lincoln Avenue
UID:e.697.876
SEQUENCE:3
DTSTAMP:20260420T190904Z
URL:https://www.lincolnsquare.org/events/details/may-membership-gathering-876
END:VEVENT

END:VCALENDAR
