BEGIN:VCALENDAR
VERSION:2.0
PRODID:-//ChamberMaster//Event Calendar 2.0//EN
METHOD:PUBLISH
X-PUBLISHED-TTL:P3D
REFRESH-INTERVAL:P3D
CALSCALE:GREGORIAN
BEGIN:VEVENT
DTSTART;VALUE=DATE:20260523
DTEND;VALUE=DATE:20260525
TRANSP:TRANSPARENT
X-MICROSOFT-CDO-ALLDAYEVENT:TRUE
SUMMARY:Mayfestiversary
DESCRIPTION:Mayfestiversary is an annual festival organized by Dovetail Brewery and Begyle Brewing.  The event features food trucks\, amazing beer by the organizing breweries\, live music\, family fun and more.  All gate donations benefit The Friendship Center. All ages welcome\, dog-friendly.
X-ALT-DESC;FMTTYPE=text/html:Mayfestiversary is an annual festival organized by Dovetail Brewery and Begyle Brewing.&nbsp\; The event features food trucks\, amazing beer by the organizing breweries\, live music\, family fun and more.&nbsp\; All gate donations benefit The Friendship Center.&nbsp\;<span style="font-family: arial\, sans-serif\; font-size: small\; background-color: rgb(255\, 255\, 255)\;">All ages welcome\, dog-friendly.</span>
LOCATION:1800 W Cuyler Ave\, Chicago\, IL\, United States\, Illinois 60613. Between Begyle and Dovetail\, At the corner of Ravenswood and Belle Plaine Ave in the Ravenswood Corridor.
UID:e.697.54914
SEQUENCE:3
DTSTAMP:20260420T053452Z
URL:https://www.lincolnsquare.org/events/details/mayfestiversary-54914
END:VEVENT

END:VCALENDAR
