BEGIN:VCALENDAR
VERSION:2.0
PRODID:-//ChamberMaster//Event Calendar 2.0//EN
METHOD:PUBLISH
X-PUBLISHED-TTL:P3D
REFRESH-INTERVAL:P3D
CALSCALE:GREGORIAN
BEGIN:VEVENT
DTSTART:20120519T140000Z
DTEND:20120519T180000Z
X-MICROSOFT-CDO-ALLDAYEVENT:FALSE
SUMMARY:MB Financial Bank Shred/Recycle Event
DESCRIPTION:Paper Shred and Electronic Recycle Event\n\nThis is a safe and secure way to dispose of your important papers and much more practical than doing it yourself!\n\n\n	The following items will be accepted:\n\n	\n		PCs/Laptops/Servers/Monitors\n	\n		Data Storage Devices\n	\n		Tapes/Disks\, Drives\n	\n		Switches\, Cable boxes\, Modems\n	\n		VCRs/DVDs/Video Game Consoles\n	\n		Printers (dot matrix\, inkjet\, laser)\n	\n		Fax and Copy machines\n	\n		PBX/telephones/Cell Phones/Wireless Devices
X-ALT-DESC;FMTTYPE=text/html:<strong>Paper Shred and Electronic Recycle Event</strong><br />\nThis is a safe and secure way to dispose of your important papers and much more practical than doing it yourself!<br />\n<p>\n	The following items will be accepted:</p>\n<ul>\n	<li>\n		PCs/Laptops/Servers/Monitors</li>\n	<li>\n		Data Storage Devices</li>\n	<li>\n		Tapes/Disks\, Drives</li>\n	<li>\n		Switches\, Cable boxes\, Modems</li>\n	<li>\n		VCRs/DVDs/Video Game Consoles</li>\n	<li>\n		Printers (dot matrix\, inkjet\, laser)</li>\n	<li>\n		Fax and Copy machines</li>\n	<li>\n		PBX/telephones/Cell Phones/Wireless Devices</li>\n</ul>\n
LOCATION:MB Financial Bank @ 3959 N. Lincoln
UID:e.697.2793
SEQUENCE:3
DTSTAMP:20260419T235708Z
URL:https://www.lincolnsquare.org/events/details/mb-financial-bank-shred-recycle-event-2793
END:VEVENT

END:VCALENDAR
