BEGIN:VCALENDAR
VERSION:2.0
PRODID:-//ChamberMaster//Event Calendar 2.0//EN
METHOD:PUBLISH
X-PUBLISHED-TTL:P3D
REFRESH-INTERVAL:P3D
CALSCALE:GREGORIAN
BEGIN:VEVENT
DTSTART:20120317T003000Z
DTEND:20120317T045500Z
X-MICROSOFT-CDO-ALLDAYEVENT:FALSE
SUMMARY:McStammtisch at the Dank Haus
DESCRIPTION:Willkommen!\n\nDANK Haus German American Cultural Center in Chicago offers German language education for children & adults as well as over 150 public cultural programs a year. Come on by the DANK Haus this week!\n\n\n\nMcStammtisch\n\n16 March\, 7:30 p.m.\n\nimage: clover.jpg\n\nBuilt on the tradition of a regulars table in a German tavern\, Stammtisch affords the public an opportunity to see and speak to members and volunteers about programs and ideas in a fun setting. The March 16 Stammtisch will be known as McStammtisch to celebrate that favorite Chicago blend of ethnicities: German and Irish.\n\n\n\nBagpiper Peter Duffield of Celtic Sounds will perform traditional tunes as well as some German melodies. (German bagpipes are knows as Sackpfeife\, Schaeferpfeife or best of all - Dudelsack)\n\n\n\nWet your whistle as we serve up Harp and Baby Guinness shots. Try a leberkaese reuben from the kitchen. Pretzels\, landjaeger and German beer still available.\n\n\n\nYou don't have to be German and/or Irish to enjoy an evening in the Skyline Lounge!\n\n\n\nNo cover\, refreshments available for purchase.\n\nFree parking courtesy of MB Financial Bank\, Western and Gunnison.
X-ALT-DESC;FMTTYPE=text/html:Willkommen!<br />\nDANK Haus German American Cultural Center in Chicago offers German language education for children &amp\; adults as well as over 150 public cultural programs a year. Come on by the DANK Haus this week!<br />\n<br />\nMcStammtisch<br />\n16 March\, 7:30 p.m.<br />\nimage: clover.jpg<br />\nBuilt on the tradition of a regulars table in a German tavern\, Stammtisch affords the public an opportunity to see and speak to members and volunteers about programs and ideas in a fun setting. The March 16 Stammtisch will be known as McStammtisch to celebrate that favorite Chicago blend of ethnicities: German and Irish.<br />\n<br />\nBagpiper Peter Duffield of Celtic Sounds will perform traditional tunes as well as some German melodies. (German bagpipes are knows as Sackpfeife\, Schaeferpfeife or best of all - Dudelsack)<br />\n<br />\nWet your whistle as we serve up Harp and Baby Guinness shots. Try a leberkaese reuben from the kitchen. Pretzels\, landjaeger and German beer still available.<br />\n<br />\nYou don&#39\;t have to be German and/or Irish to enjoy an evening in the Skyline Lounge!<br />\n<br />\nNo cover\, refreshments available for purchase.<br />\nFree parking courtesy of MB Financial Bank\, Western and Gunnison.<br />\n
LOCATION:DANK Haus
UID:e.697.2512
SEQUENCE:3
DTSTAMP:20260420T014543Z
URL:https://www.lincolnsquare.org/events/details/mcstammtisch-2512
END:VEVENT

END:VCALENDAR
