BEGIN:VCALENDAR
VERSION:2.0
PRODID:-//ChamberMaster//Event Calendar 2.0//EN
METHOD:PUBLISH
X-PUBLISHED-TTL:P3D
REFRESH-INTERVAL:P3D
CALSCALE:GREGORIAN
BEGIN:VEVENT
DTSTART:20111103T220000Z
DTEND:20111103T230000Z
X-MICROSOFT-CDO-ALLDAYEVENT:FALSE
SUMMARY:Medications for the Management of Arthritis
DESCRIPTION:Arthritis is the nation's most common cause of disability in the United States.  Patients' beliefs about medications are identifies as the key barriers to adhering to prescribed medication regimens.  Please join us for a seminar with Zoon H. Park\, Assistant Director\, Department of Pharmacy Services at Swedish Covenant Hospital.  Dr. Park will discuss how arthritis medications act and interact and describe the role of lifestyle modification for the management of arthritis.\n\n\n\nRavenswood Community Bank\n\n2300 W. Lawrence Avenue\n\nChicago\, IL 60625\n\n\n\nThursday\, November 3\, 2011\n\n5:00pm\n\n\n\nLight refreshments will be served.
X-ALT-DESC;FMTTYPE=text/html:Arthritis is the nation&#39\;s most common cause of disability in the United States.&nbsp\; Patients&#39\; beliefs about medications are identifies as the key barriers to adhering to prescribed medication regimens.&nbsp\; Please join us for a seminar with Zoon H. Park\, Assistant Director\, Department of Pharmacy Services at Swedish Covenant Hospital.&nbsp\; Dr. Park will discuss how arthritis medications act and interact and describe the role of lifestyle modification for the management of arthritis.<br />\n<br />\nRavenswood Community Bank<br />\n2300 W. Lawrence Avenue<br />\nChicago\, IL 60625<br />\n<br />\nThursday\, November 3\, 2011<br />\n5:00pm<br />\n<br />\n<em>Light refreshments will be served.</em>
LOCATION:Ravenswood Community Bank 2300 W. Lawrence Avenue
UID:e.697.2183
SEQUENCE:3
DTSTAMP:20260420T082424Z
URL:https://www.lincolnsquare.org/events/details/medications-for-the-management-of-arthritis-2183
END:VEVENT

END:VCALENDAR
