BEGIN:VCALENDAR
VERSION:2.0
PRODID:-//ChamberMaster//Event Calendar 2.0//EN
METHOD:PUBLISH
X-PUBLISHED-TTL:P3D
REFRESH-INTERVAL:P3D
CALSCALE:GREGORIAN
BEGIN:VEVENT
DTSTART:20120830T000000Z
DTEND:20120830T023000Z
X-MICROSOFT-CDO-ALLDAYEVENT:FALSE
SUMMARY:Movies with Meaning at Ravenswood Health Center
DESCRIPTION:Please join Dr. Jason Fennema\, leading chiropractor in your community\,  and staff for\n\n	 Movies with Meaning\n\n	August 29th\, 2012 at 7:00pm. \n\n	\n\n	Dr. Jason will be showing parts of the movie "The Secret":  This movie has taken the world and mainstream media by storm.  Based on the Law of Attraction and positive thinking\, it refers to the idea that both your conscious and subconscious thoughts effect your outcomes in life.  Come learn more about how exercise and healthy eating are not the only factors in living an abundantly healthy life.     Dr. led discussion will follow the movie. \n\n	\n\n	Light snacks and drinks will be provided.
X-ALT-DESC;FMTTYPE=text/html:<p style="text-align: center">\n	Please join Dr. Jason Fennema\, leading chiropractor in your community\,&nbsp\; and staff for<br />\n	&nbsp\;<span style="font-size: 16px">Movies with Meaning</span><br />\n	August 29th\, 2012 at 7:00pm.&nbsp\;<br />\n	<br />\n	Dr. Jason will be showing parts of the movie <span style="background-color: #00ffff">&quot\;The Secret&quot\;</span>:&nbsp\; This movie has taken the world and mainstream media by storm.&nbsp\; Based on the Law of Attraction and positive thinking\, it refers to the idea that both your conscious and subconscious thoughts effect your outcomes in life.&nbsp\; Come learn more about how exercise and healthy eating are not the only factors in living an abundantly healthy life. &nbsp\; &nbsp\; Dr. led discussion will follow the movie.&nbsp\;<br />\n	<br />\n	Light snacks and drinks will be provided.&nbsp\;</p>\n
LOCATION:Ravenswood Health Center\, 4256 North Ravenswood\, Complimentary Parking
UID:e.697.3599
SEQUENCE:3
DTSTAMP:20260420T171435Z
URL:https://www.lincolnsquare.org/events/details/movies-with-meaning-at-ravenswood-health-center-3599
END:VEVENT

END:VCALENDAR
