BEGIN:VCALENDAR
VERSION:2.0
PRODID:-//ChamberMaster//Event Calendar 2.0//EN
METHOD:PUBLISH
X-PUBLISHED-TTL:P3D
REFRESH-INTERVAL:P3D
CALSCALE:GREGORIAN
BEGIN:VEVENT
DTSTART:20110918T193000Z
DTEND:20110918T204500Z
X-MICROSOFT-CDO-ALLDAYEVENT:FALSE
SUMMARY:The Colors of Music
DESCRIPTION:Lively Arts of Chicago presents Music in the Neighborhood in Lincoln Square! For children ages four and up.\n\nInstrument "petting zoo" at 2:30 pm.  Featuring Quartet Ventoso. Doreen Feitelberg\, Narrator. Be a lucky winner at our prize drawing following the concert.
X-ALT-DESC;FMTTYPE=text/html:Lively Arts of Chicago presents Music in the Neighborhood in Lincoln Square!<strong> For children ages four and up</strong>.<br />\nInstrument &quot\;petting zoo&quot\; at 2:30 pm.&nbsp\; Featuring Quartet Ventoso. Doreen Feitelberg\, Narrator. Be a lucky winner at our prize drawing following the concert.
LOCATION:Trattoria Trullo\, 4767 N. Lincoln Ave. Chicago\, IL
UID:e.697.1894
SEQUENCE:3
DTSTAMP:20260420T124927Z
URL:https://www.lincolnsquare.org/events/details/music-in-the-neighborhood-1894
END:VEVENT

END:VCALENDAR
