BEGIN:VCALENDAR
VERSION:2.0
PRODID:-//ChamberMaster//Event Calendar 2.0//EN
METHOD:PUBLISH
X-PUBLISHED-TTL:P3D
REFRESH-INTERVAL:P3D
CALSCALE:GREGORIAN
BEGIN:VEVENT
DTSTART:20100607T140000Z
DTEND:20100611T170000Z
X-MICROSOFT-CDO-ALLDAYEVENT:FALSE
SUMMARY:National Headache Awareness Week
DESCRIPTION:National Headache Awareness Week ? June 6-12\, 2010\n\nChicago Wellness Center raises awareness by providing complimentary Headache Screenings\n\n\n\nChicago\, IL\, May 13\, 2010:  Headache relief is possible.  However\, many headache suffers\, even chronic headache suffers\, don?t actively seek out the help and advice they deserve and need.  This year\, Ravenswood Chiropractic & Wellness Center in Chicago is raising awareness of the wide range of headaches people can suffer from\, how headaches impact daily life\, and the many different treatment options and resources that are currently available. Monday June 7th through Friday June 11th\, from 9:00 AM to 12:00 PM\, the center will accept walk-in consultations at which you can receive a complimentary screening and ask expert practitioners your headache questions.  Ravenswood Chiropractic and Wellness Center is located at 5215 North Ravenswood\, Suite 105 in Chicago\, IL 60640.  For more information or to schedule a screening appointment please call Nadia Hare at (773) 878-7330 or visit the events section of our website at www.RennWellness.com.
X-ALT-DESC;FMTTYPE=text/html:National Headache Awareness Week ? June 6-12\, 2010\n<br>Chicago Wellness Center raises awareness by providing complimentary Headache Screenings\n<br>\n<br>Chicago\, IL\, May 13\, 2010:  Headache relief is possible.  However\, many headache suffers\, even chronic headache suffers\, don?t actively seek out the help and advice they deserve and need.  This year\, Ravenswood Chiropractic &amp\; Wellness Center in Chicago is raising awareness of the wide range of headaches people can suffer from\, how headaches impact daily life\, and the many different treatment options and resources that are currently available. Monday June 7th through Friday June 11th\, from 9:00 AM to 12:00 PM\, the center will accept walk-in consultations at which you can receive a complimentary screening and ask expert practitioners your headache questions.  Ravenswood Chiropractic and Wellness Center is located at 5215 North Ravenswood\, Suite 105 in Chicago\, IL 60640.  For more information or to schedule a screening appointment please call Nadia Hare at (773) 878-7330 or visit the events section of our website at www.RennWellness.com.\n<br>
LOCATION:Ravenswood Chiropractic & Wellness Center 5215 North Ravenswood\, Suite 105 Chicago\, IL 60640
UID:e.697.516
SEQUENCE:3
DTSTAMP:20260421T104545Z
URL:https://www.lincolnsquare.org/events/details/national-headache-awareness-week-516
END:VEVENT

END:VCALENDAR
