BEGIN:VCALENDAR
VERSION:2.0
PRODID:-//ChamberMaster//Event Calendar 2.0//EN
METHOD:PUBLISH
X-PUBLISHED-TTL:P3D
REFRESH-INTERVAL:P3D
CALSCALE:GREGORIAN
BEGIN:VEVENT
DTSTART:20101125T140000Z
DTEND:20101125T180000Z
X-MICROSOFT-CDO-ALLDAYEVENT:FALSE
SUMMARY:NBGC Thanksgiving Day Classics
DESCRIPTION:NBGC Thanksgiving Day Classics\, Thanksgiving Day November 25th.  The traditional end to the NBGC Football and Soccer Seasons are the Thanksgiving Day Classics.  Teams have been playing in the Turkey Bowl since 1931\, making this our 80th Classics!  Every team will come out for one final game\, some of which will be for the league championship.  Starts 8:00 a.m.
X-ALT-DESC;FMTTYPE=text/html:NBGC Thanksgiving Day Classics\, Thanksgiving Day November 25th.  The traditional end to the NBGC Football and Soccer Seasons are the Thanksgiving Day Classics.  Teams have been playing in the Turkey Bowl since 1931\, making this our 80th Classics!  Every team will come out for one final game\, some of which will be for the league championship.  Starts 8:00 a.m.  \n<br>\n<br>
LOCATION:2501 W. Irving Park Road\, Chicago\, IL 60618
UID:e.697.680
SEQUENCE:3
DTSTAMP:20260421T033647Z
URL:https://www.lincolnsquare.org/events/details/nbgc-thanksgiving-day-classics-680
END:VEVENT

END:VCALENDAR
