BEGIN:VCALENDAR
VERSION:2.0
PRODID:-//ChamberMaster//Event Calendar 2.0//EN
METHOD:PUBLISH
X-PUBLISHED-TTL:P3D
REFRESH-INTERVAL:P3D
CALSCALE:GREGORIAN
BEGIN:VEVENT
DTSTART;VALUE=DATE:20101113
DTEND;VALUE=DATE:20101114
TRANSP:TRANSPARENT
X-MICROSOFT-CDO-ALLDAYEVENT:TRUE
SUMMARY:Neighborhood Toy Store Day
DESCRIPTION:"Neighborhood Toy Store Day" sponsored by the American Specialty Toy Retailers Association this Saturday\, November 13th.\n\n\n\nWe are joining the celebration with a morning of fun at Timeless Toys.  Face painting\, crafts\, game demos and a grand prize drawing. (and a door prize for the first fifty kids who know the secret word - PLAY! )
X-ALT-DESC;FMTTYPE=text/html:<span style="font-size: 10pt"><span style="font-family: arial\, sans-serif">&quot\;Neighborhood Toy Store Day&quot\; sponsored by the American Specialty Toy Retailers Association this Saturday\, November 13th.<br />\n<br />\nWe are joining the celebration with a morning of fun at Timeless Toys.&nbsp\; Face painting\, crafts\, game demos and a grand prize drawing. (and a door prize for the first fifty kids who know the secret word - PLAY! )&nbsp\;</span></span>
LOCATION:Timeless Toys
UID:e.697.670
SEQUENCE:3
DTSTAMP:20260421T032404Z
URL:https://www.lincolnsquare.org/events/details/neighborhood-toy-store-day-670
END:VEVENT

END:VCALENDAR
