BEGIN:VCALENDAR
VERSION:2.0
PRODID:-//ChamberMaster//Event Calendar 2.0//EN
METHOD:PUBLISH
X-PUBLISHED-TTL:P3D
REFRESH-INTERVAL:P3D
CALSCALE:GREGORIAN
BEGIN:VEVENT
DTSTART:20100517T140000Z
DTEND:20100521T170000Z
X-MICROSOFT-CDO-ALLDAYEVENT:FALSE
SUMMARY:Neuropathy Screenings - National Neuropathy Week
DESCRIPTION:Neuropathy is a broad term that describes an abnormality of the nervous system.  There are many causes that contribute to the manifestation of Neuropathy that can result in a variety of symptoms such as numbness\, tingling\, weakness\, ?shooting pains?\, ?pins and needles? and sensations of ?burning? pain to name just a few.  Some research estimates that 20 million Americans suffer from some form of neuropathy. Neuropathy can be misdiagnosed or interpreted as a side effect of another illness or medication. According to The Neuropathy Association\, ?a 1999 awareness survey reported that only 7% of all adults in the U.S. know about neuropathy?.   Ravenswood Chiropractic and Wellness Center in Chicago is raising awareness of neuropathy by providing free neuropathy screenings.  As with many conditions\, for some cases of neuropathy it is critical that it is detected and correctly diagnosed at an early stage for it to be effectively controlled.  Monday: May 17th through Friday: May  21st\, from 9:00 AM to 12:00 PM\, the center will accept walk-in consultations at which you can receive a complimentary screening and ask expert practitioners your neuropathy questions.  Ravenswood Chiropractic and Wellness Center is located at 5215 North Ravenswood\, Suite 105 in Chicago\, IL 60640.  For more information or to schedule a screening appointment please call Nadia Hare at (773) 878-7330 or visit the events section of our website www.RennWellness.com.
X-ALT-DESC;FMTTYPE=text/html:Neuropathy is a broad term that describes an abnormality of the nervous system.  There are many causes that contribute to the manifestation of Neuropathy that can result in a variety of symptoms such as numbness\, tingling\, weakness\, ?shooting pains?\, ?pins and needles? and sensations of ?burning? pain to name just a few.  Some research estimates that 20 million Americans suffer from some form of neuropathy. Neuropathy can be misdiagnosed or interpreted as a side effect of another illness or medication. According to The Neuropathy Association\, ?a 1999 awareness survey reported that only 7% of all adults in the U.S. know about neuropathy?.   Ravenswood Chiropractic and Wellness Center in Chicago is raising awareness of neuropathy by providing free neuropathy screenings.  As with many conditions\, for some cases of neuropathy it is critical that it is detected and correctly diagnosed at an early stage for it to be effectively controlled.  Monday: May 17th through Friday: May  21st\, from 9:00 AM to 12:00 PM\, the center will accept walk-in consultations at which you can receive a complimentary screening and ask expert practitioners your neuropathy questions.  Ravenswood Chiropractic and Wellness Center is located at 5215 North Ravenswood\, Suite 105 in Chicago\, IL 60640.  For more information or to schedule a screening appointment please call Nadia Hare at (773) 878-7330 or visit the events section of our website www.RennWellness.com.
LOCATION:Ravenswood Chiropractic & Wellness Center 5215 North Ravenswood\, Suite 105 Chicago\, IL 60640
UID:e.697.514
SEQUENCE:3
DTSTAMP:20260421T123435Z
URL:https://www.lincolnsquare.org/events/details/neuropathy-screenings-national-neuropathy-week-514
END:VEVENT

END:VCALENDAR
