BEGIN:VCALENDAR
VERSION:2.0
PRODID:-//ChamberMaster//Event Calendar 2.0//EN
METHOD:PUBLISH
X-PUBLISHED-TTL:P3D
REFRESH-INTERVAL:P3D
CALSCALE:GREGORIAN
BEGIN:VEVENT
DTSTART:20111231T180000Z
DTEND:20111231T180000Z
X-MICROSOFT-CDO-ALLDAYEVENT:FALSE
SUMMARY:New Years Eve at LM
DESCRIPTION:Enjoy a Three-Course menu available before 7:00 pm for $50 per person\,\n\n       or a Five-Course menue available after 7:00 pm for $80 per person.
X-ALT-DESC;FMTTYPE=text/html:Enjoy a Three-Course menu available before 7:00 pm for $50 per person\,<br />\n&nbsp\;&nbsp\;&nbsp\;&nbsp\;&nbsp\;&nbsp\; or a Five-Course menue available after 7:00 pm for $80 per person.
LOCATION:4539 N. Lincoln Avenue
UID:e.697.2446
SEQUENCE:3
DTSTAMP:20260420T061245Z
URL:https://www.lincolnsquare.org/events/details/new-years-eve-at-lm-2446
END:VEVENT

END:VCALENDAR
