BEGIN:VCALENDAR
VERSION:2.0
PRODID:-//ChamberMaster//Event Calendar 2.0//EN
METHOD:PUBLISH
X-PUBLISHED-TTL:P3D
REFRESH-INTERVAL:P3D
CALSCALE:GREGORIAN
BEGIN:VEVENT
DTSTART:20110810T140000Z
DTEND:20110810T180000Z
X-MICROSOFT-CDO-ALLDAYEVENT:FALSE
SUMMARY:New York Life Child ID Program
DESCRIPTION:New York Life representatives will be visiting Pickle's Playroom to provide Child Identification Cards.  The process takes less than 5 minutes and your child's data is not stored.  Parents will receive a Child ID form and a CD\, child's 10 fingerprints and digital photograph.  There is no cost for this event.
X-ALT-DESC;FMTTYPE=text/html:New York Life representatives will be visiting Pickle&#39\;s Playroom to provide Child Identification Cards. &nbsp\;The process takes less than 5 minutes and your child&#39\;s data is not stored. &nbsp\;Parents will receive a Child ID form and a CD\, child&#39\;s 10 fingerprints and digital photograph. &nbsp\;There is no cost for this event.
LOCATION:PIckle's Playroom
UID:e.697.1102
SEQUENCE:3
DTSTAMP:20260420T122604Z
URL:https://www.lincolnsquare.org/events/details/new-york-life-child-id-program-1102
END:VEVENT

END:VCALENDAR
