BEGIN:VCALENDAR
VERSION:2.0
PRODID:-//ChamberMaster//Event Calendar 2.0//EN
METHOD:PUBLISH
X-PUBLISHED-TTL:P3D
REFRESH-INTERVAL:P3D
CALSCALE:GREGORIAN
BEGIN:VEVENT
DTSTART:20110626T180000Z
DTEND:20110626T200000Z
X-MICROSOFT-CDO-ALLDAYEVENT:FALSE
SUMMARY:Nice Cream Tasting at Provenance Food & Wine
DESCRIPTION:We all scream for Nice Cream!  Come on by our shop at 2312 W. Leland & try the latest and greatest as Nice Cream unveils their lineup of summer flavors\, made with local dairy\, fruit & other all-natural ingredients.
X-ALT-DESC;FMTTYPE=text/html:We all scream for Nice Cream!&nbsp\; Come on by our shop at 2312 W. Leland &amp\; try the latest and greatest as&nbsp\;Nice Cream&nbsp\;unveils their lineup of summer flavors\, made with local dairy\, fruit &amp\; other all-natural ingredients.<br />\n
LOCATION:Provenance Lincoln Square 2312 W. Leland Avenue
UID:e.697.904
SEQUENCE:3
DTSTAMP:20260420T160124Z
URL:https://www.lincolnsquare.org/events/details/nice-cream-tasting-at-provenance-food-wine-904
END:VEVENT

END:VCALENDAR
