BEGIN:VCALENDAR
VERSION:2.0
PRODID:-//ChamberMaster//Event Calendar 2.0//EN
METHOD:PUBLISH
X-PUBLISHED-TTL:P3D
REFRESH-INTERVAL:P3D
CALSCALE:GREGORIAN
BEGIN:VEVENT
DTSTART:20101203T003000Z
DTEND:20101203T040000Z
X-MICROSOFT-CDO-ALLDAYEVENT:FALSE
SUMMARY:NIght Before Christkindl Market
DESCRIPTION:St. Matthias Transfiguration School invites you to help support their scholarship fund by attending a mixer on Thursday\, Dec. 2\, 6:30 PM to 10:00 PM in Lincoln Square at the intersection of Lincoln and Leland Avenues.  \n\n\n\nJust look for the big tent!  Suggested donation is $20 per person. Complimentary appetizers and a deejay will be provided. Cash bar includes beer and hot spiced wine. You bring the fun! More than 35% of the school's families receive financial assistance.
X-ALT-DESC;FMTTYPE=text/html:St. Matthias Transfiguration School invites you to help support their scholarship fund by attending a mixer on Thursday\, Dec. 2\, 6:30 PM to 10:00 PM in Lincoln Square at the intersection of Lincoln and Leland Avenues.  \n<br>\n<br>Just look for the big tent!  Suggested donation is $20 per person. Complimentary appetizers and a deejay will be provided. Cash bar includes beer and hot spiced wine. You bring the fun! More than 35% of the school's families receive financial assistance. \n<br>\n<br>
LOCATION:Under the Big Heated Tent at Leland and Lincoln Avenues
UID:e.697.676
SEQUENCE:3
DTSTAMP:20260421T014211Z
URL:https://www.lincolnsquare.org/events/details/night-before-christkindl-market-676
END:VEVENT

END:VCALENDAR
