BEGIN:VCALENDAR
VERSION:2.0
PRODID:-//ChamberMaster//Event Calendar 2.0//EN
METHOD:PUBLISH
X-PUBLISHED-TTL:P3D
REFRESH-INTERVAL:P3D
CALSCALE:GREGORIAN
BEGIN:VEVENT
DTSTART;VALUE=DATE:20111019
DTEND;VALUE=DATE:20111030
TRANSP:TRANSPARENT
X-MICROSOFT-CDO-ALLDAYEVENT:TRUE
SUMMARY:No. Bones About It - Contest and Fundraiser at Ruff Haus Pets
DESCRIPTION:Throughout October\, stop by Ruff Haus to guess the number of beer bones in a 6 gallon beer fermenter. \n\n	\n\n	Just $2 gets you 1 guess\; $5 gets you 3 guesses.\n\n	All proceeds benefit the dogs at New Leash On Life.\n\n	\n\n	Whoever guesses closest to the actual number of biscuits gets a\n\n	$50 Ruff Haus gift certificate and a Brew For Two class at Brew Camp!\n\n	\n\n	Winner of No. Bones About It announced at 3pm on Saturday\, October 29th during Halloween Happenings.
X-ALT-DESC;FMTTYPE=text/html:<p style="text-align: center">\n	<span style="font-size: 14px">Throughout October\, stop by Ruff Haus to guess the number of beer bones in a 6 gallon beer fermenter. </span><br />\n	<br />\n	Just $2 gets you 1 guess\; $5 gets you 3 guesses.<br />\n	<strong>All proceeds benefit the dogs at New Leash On Life.</strong><br />\n	<br />\n	Whoever guesses closest to the actual number of biscuits gets a<br />\n	$50 Ruff Haus gift certificate and a Brew For Two class at Brew Camp!<br />\n	<br />\n	Winner of No. Bones About It announced at 3pm on Saturday\, October 29th during Halloween Happenings.<br />\n	&nbsp\;</p>\n
LOCATION:Ruff Haus Pets 4652 N. Rockwell Street
UID:e.697.2172
SEQUENCE:3
DTSTAMP:20260420T094620Z
URL:https://www.lincolnsquare.org/events/details/no-bones-about-it-contest-and-fundraiser-at-ruff-haus-pets-2172
END:VEVENT

END:VCALENDAR
