BEGIN:VCALENDAR
VERSION:2.0
PRODID:-//ChamberMaster//Event Calendar 2.0//EN
METHOD:PUBLISH
X-PUBLISHED-TTL:P3D
REFRESH-INTERVAL:P3D
CALSCALE:GREGORIAN
BEGIN:VEVENT
DTSTART:20110825T150000Z
DTEND:20110825T180000Z
X-MICROSOFT-CDO-ALLDAYEVENT:FALSE
SUMMARY:North Parent Network - Andersonville Club
DESCRIPTION:The NPN-Andersonville Club will be hosting a playdate at PIckle's Playroom for their members and parents.  If you're part of a group\, contact us to set up a playdate for you!
X-ALT-DESC;FMTTYPE=text/html:The NPN-Andersonville Club will be hosting a playdate at PIckle&#39\;s Playroom for their members and parents. &nbsp\;If you&#39\;re part of a group\, contact us to set up a playdate for you!
LOCATION:PIckle's Playroom
UID:e.697.1351
SEQUENCE:3
DTSTAMP:20260420T124926Z
URL:https://www.lincolnsquare.org/events/details/north-parent-network-andersonville-club-1351
END:VEVENT

END:VCALENDAR
