BEGIN:VCALENDAR
VERSION:2.0
PRODID:-//ChamberMaster//Event Calendar 2.0//EN
METHOD:PUBLISH
X-PUBLISHED-TTL:P3D
REFRESH-INTERVAL:P3D
CALSCALE:GREGORIAN
BEGIN:VEVENT
DTSTART;VALUE=DATE:20111020
DTEND;VALUE=DATE:20111028
TRANSP:TRANSPARENT
X-MICROSOFT-CDO-ALLDAYEVENT:TRUE
SUMMARY:NPES Halloween Costume Exchange
DESCRIPTION:Go green and save green by participating in the North Park Elementary School Halloween Costume Exchange. Thursday\, October 20th to Thursday\, October 27th\, bring in your old costume\, and go home with a new one!
X-ALT-DESC;FMTTYPE=text/html:<p>\n	<br />\n	<span style="font-size: 14px"><span style="font-family: arial"><span class="messageBody translationEligibleUserMessage" data-ft="{&quot\;type&quot\;:3}">Go green and save green by participating in the North Park Elementary School Halloween Costume Exchange. Thursday\, October 20th to Thursday\, October 27th\, bring in your old costume\, and go home with a new one!</span></span></span></p>\n
LOCATION:North Park Elementary School 2017 W. Montrose Avenue
UID:e.697.2173
SEQUENCE:3
DTSTAMP:20260420T094430Z
URL:https://www.lincolnsquare.org/events/details/npes-halloween-costume-exchange-2173
END:VEVENT

END:VCALENDAR
