BEGIN:VCALENDAR
VERSION:2.0
PRODID:-//ChamberMaster//Event Calendar 2.0//EN
METHOD:PUBLISH
X-PUBLISHED-TTL:P3D
REFRESH-INTERVAL:P3D
CALSCALE:GREGORIAN
BEGIN:VEVENT
DTSTART:20101019T233000Z
DTEND:20101020T013000Z
X-MICROSOFT-CDO-ALLDAYEVENT:FALSE
SUMMARY:October Membership Gathering
DESCRIPTION:Join us for an evening with Adlerman Schulter for a state of the neighborhood address.
X-ALT-DESC;FMTTYPE=text/html:Join us for an evening with Adlerman Schulter for a state of the neighborhood address. 
LOCATION:Pizza DOC 2251 W Lawrence Chicago\, IL 60625
UID:e.697.661
SEQUENCE:3
DTSTAMP:20260421T050222Z
URL:https://www.lincolnsquare.org/events/details/october-membership-gathering-661
END:VEVENT

END:VCALENDAR
