BEGIN:VCALENDAR
VERSION:2.0
PRODID:-//ChamberMaster//Event Calendar 2.0//EN
METHOD:PUBLISH
X-PUBLISHED-TTL:P3D
REFRESH-INTERVAL:P3D
CALSCALE:GREGORIAN
BEGIN:VEVENT
DTSTART:20110130T183000Z
DTEND:20110130T200000Z
X-MICROSOFT-CDO-ALLDAYEVENT:FALSE
SUMMARY:Open House at Saint Matthias Transfiguration School
DESCRIPTION:Tour the school with parents and student council members.  Visit with the teachers and learn why the school has experienced a 42 percent increase in enrollment over the last six years. Open House is preceeded by an 11:30 AM Children's Mass at St. Matthias. All are welcome!
X-ALT-DESC;FMTTYPE=text/html:Tour the school with parents and student council members.  Visit with the teachers and learn why the school has experienced a 42 percent increase in enrollment over the last six years. Open House is preceeded by an 11:30 AM Children's Mass at St. Matthias. All are welcome! 
LOCATION:St. Matthias Transfiguration School 4910 N. Claremont Ave. Chicago\, IL 60625
UID:e.697.752
SEQUENCE:3
DTSTAMP:20260420T235925Z
URL:https://www.lincolnsquare.org/events/details/open-house-at-saint-matthias-transfiguration-school-752
END:VEVENT

END:VCALENDAR
