BEGIN:VCALENDAR
VERSION:2.0
PRODID:-//ChamberMaster//Event Calendar 2.0//EN
METHOD:PUBLISH
X-PUBLISHED-TTL:P3D
REFRESH-INTERVAL:P3D
CALSCALE:GREGORIAN
BEGIN:VEVENT
DTSTART:20120124T030000Z
DTEND:20120124T060000Z
X-MICROSOFT-CDO-ALLDAYEVENT:FALSE
SUMMARY:Open Mic at The Grafton
DESCRIPTION:Come on out for our Open Mic session with our host\, Michael Riser.  http://www.michaelriser.com/
X-ALT-DESC;FMTTYPE=text/html:Come on out for our Open Mic session with our host\, Michael Riser.&nbsp\; <a href="http://www.michaelriser.com/">http://www.michaelriser.com/</a>
LOCATION:The Grafton 4530 N. Lincoln Ave. Chicago.
UID:e.697.2454
SEQUENCE:3
DTSTAMP:20260420T045631Z
URL:https://www.lincolnsquare.org/events/details/open-mic-at-the-grafton-2454
END:VEVENT

END:VCALENDAR
