BEGIN:VCALENDAR
VERSION:2.0
PRODID:-//ChamberMaster//Event Calendar 2.0//EN
METHOD:PUBLISH
X-PUBLISHED-TTL:P3D
REFRESH-INTERVAL:P3D
CALSCALE:GREGORIAN
BEGIN:VEVENT
DTSTART:20120325T130000Z
DTEND:20120325T180000Z
X-MICROSOFT-CDO-ALLDAYEVENT:FALSE
SUMMARY:Pancake Breakfast
DESCRIPTION:Come for the pancakes.  Stay for the pancakes.\n\n\n\nCub Scout Pack 3894 PANCAKE BREAKFAST!\n\n\n\nAYCE Pancakes\, Sausages\, Orange Juice\, Coffee\, Milk\, Raffle\, Bake Sale\, Jewelry & Handbag Displays.
X-ALT-DESC;FMTTYPE=text/html:Come for the pancakes.&nbsp\; Stay for the pancakes.<br />\n<br />\nCub Scout Pack 3894 PANCAKE BREAKFAST!<br />\n<br />\nAYCE Pancakes\, Sausages\, Orange Juice\, Coffee\, Milk\, Raffle\, Bake Sale\, Jewelry &amp\; Handbag Displays.
LOCATION:Queen of Angels Church 2330 W. Sunnyside
UID:e.697.2509
SEQUENCE:3
DTSTAMP:20260420T013653Z
URL:https://www.lincolnsquare.org/events/details/pancake-breakfast-2509
END:VEVENT

END:VCALENDAR
