BEGIN:VCALENDAR
VERSION:2.0
PRODID:-//ChamberMaster//Event Calendar 2.0//EN
METHOD:PUBLISH
X-PUBLISHED-TTL:P3D
REFRESH-INTERVAL:P3D
CALSCALE:GREGORIAN
BEGIN:VEVENT
DTSTART:20100430T233000Z
DTEND:20100501T013000Z
X-MICROSOFT-CDO-ALLDAYEVENT:FALSE
SUMMARY:Passage Exhibit - Closing Reception
DESCRIPTION:The Scharpenberg Gallery\n\nCordially invites you to a unique exhibition and installation\n\nby\n\nInternational Artist Dede Handon\n\nCurrently residing and creating in Germany\, this is her American debut.\n\nHer art is unusual\; the concept is new and fresh.\n\nClosing Reception Friday April 30th 6.30 - 8.30\,\n\nWine and hors d'oeuvres  served\n\ndirectly followed by Jazz treasure  Carl Leukaufe & the Tony Morrison Trio\n\nin our Skyline Lounge with open rooftop terrace\n\nand spectacular views of the city
X-ALT-DESC;FMTTYPE=text/html:The Scharpenberg Gallery\n<br>Cordially invites you to a unique exhibition and installation\n<br>by\n<br>International Artist Dede Handon\n<br>Currently residing and creating in Germany\, this is her American debut.\n<br>Her art is unusual\; the concept is new and fresh.\n<br>Closing Reception Friday April 30th 6.30 - 8.30\,\n<br>Wine and hors d'oeuvres  served\n<br>directly followed by Jazz treasure  Carl Leukaufe & the Tony Morrison Trio\n<br>in our Skyline Lounge with open rooftop terrace\n<br>and spectacular views of the city
LOCATION:DANK Haus Scharpenberg Gallery 4740 N Western Ave Chicago IL 60625
UID:e.697.464
SEQUENCE:3
DTSTAMP:20260421T154054Z
URL:https://www.lincolnsquare.org/events/details/passage-exhibit-closing-reception-464
END:VEVENT

END:VCALENDAR
