BEGIN:VCALENDAR
VERSION:2.0
PRODID:-//ChamberMaster//Event Calendar 2.0//EN
METHOD:PUBLISH
X-PUBLISHED-TTL:P3D
REFRESH-INTERVAL:P3D
CALSCALE:GREGORIAN
BEGIN:VEVENT
DTSTART:20110306T210000Z
DTEND:20110306T230000Z
X-MICROSOFT-CDO-ALLDAYEVENT:FALSE
SUMMARY:Pasta Making Class
DESCRIPTION:Make Pasta Like Grandma!\n\n\n\n- Pasta Making Class the old fashion way -\n\nLocation: 4767 N Lincoln Ave \n\nDate: Sunday\, March 6th 2011\n\nTime: 3pm\n\nWhat to Bring: Apron (Optional)\n\n\n\n$25 (per person) Includes complementary glass of house wine (red or white)\, Insalata & Assagini (appetizers) and your own bowl of pasta that you created during class.\n\n[Choose sauce: Vodka\, Meat Marinara\, Marinara\, White Sauce] \n\nThis is a great for a group outing!\n\nCall for reservations 773.506.0093
X-ALT-DESC;FMTTYPE=text/html:Make Pasta Like Grandma!\n<br>\n<br>- Pasta Making Class the old fashion way -\n<br>Location: 4767 N Lincoln Ave \n<br>Date: Sunday\, March 6th 2011\n<br>Time: 3pm\n<br>What to Bring: Apron (Optional)\n<br>\n<br>$25 (per person) Includes complementary glass of house wine (red or white)\, Insalata &amp\; Assagini (appetizers) and your own bowl of pasta that you created during class.\n<br>[Choose sauce: Vodka\, Meat Marinara\, Marinara\, White Sauce] \n<br>This is a great for a group outing!\n<br>Call for reservations 773.506.0093
LOCATION:4767 N Lincoln Ave\, Trattoria Trullo
UID:e.697.763
SEQUENCE:3
DTSTAMP:20260420T205646Z
URL:https://www.lincolnsquare.org/events/details/pasta-making-class-763
END:VEVENT

END:VCALENDAR
