BEGIN:VCALENDAR
VERSION:2.0
PRODID:-//ChamberMaster//Event Calendar 2.0//EN
METHOD:PUBLISH
X-PUBLISHED-TTL:P3D
REFRESH-INTERVAL:P3D
CALSCALE:GREGORIAN
BEGIN:VEVENT
DTSTART;VALUE=DATE:20111201
DTEND;VALUE=DATE:20111216
TRANSP:TRANSPARENT
X-MICROSOFT-CDO-ALLDAYEVENT:TRUE
SUMMARY:Perfect Cup Toys for Tots
DESCRIPTION:Toys for Tots collection at The Perfect Cup.  Help us get toys to all the children in need this holiday season!  Help make the season brighter!\n\n\n\n*Please remember Toys for Tots only accepts new toys.
X-ALT-DESC;FMTTYPE=text/html:Toys for Tots collection at The Perfect Cup.&nbsp\; Help us get toys to all the children in need this holiday season!&nbsp\; Help make the season brighter!<br />\n<br />\n*Please remember Toys for Tots only accepts new toys.
LOCATION:4700 N. Damen Ave.
UID:e.697.2442
SEQUENCE:3
DTSTAMP:20260420T061400Z
URL:https://www.lincolnsquare.org/events/details/perfect-cup-toys-for-tots-2442
END:VEVENT

END:VCALENDAR
