BEGIN:VCALENDAR
VERSION:2.0
PRODID:-//ChamberMaster//Event Calendar 2.0//EN
METHOD:PUBLISH
X-PUBLISHED-TTL:P3D
REFRESH-INTERVAL:P3D
CALSCALE:GREGORIAN
BEGIN:VEVENT
DTSTART:20110823T150000Z
DTEND:20110823T194500Z
X-MICROSOFT-CDO-ALLDAYEVENT:FALSE
SUMMARY:Pet Vaccine and Microchip Clinic
DESCRIPTION:Cook County Commissioner John Fritchey\, in collaboration with President Toni Preckwinkle and the Cook County Department of Animal and Rabies Control\, are pleased to announce two upcoming Rabies Vaccine and Microchip Clinics in which Cook County residents can protect the health and safety of their beloved pets.  \n\n	 \n\n	The clinics\, taking place Tuesday and Wednesday\, August 23 and 24 from 10:00am to 2:45pm\, will allow owners of dogs\, cats and ferrets ages 3 months and up the opportunity to get their pets low cost rabies vaccines as well as microchip placements.  Pet owners must be Cook County residents with a valid ID\, and the clinics accept cash or check only.
X-ALT-DESC;FMTTYPE=text/html:<p>\n	<span style="font-family: arial"><span style="font-size: 14px"><span style="color: black">Cook County Commissioner John Fritchey\, in collaboration with President Toni Preckwinkle and the Cook County Department of Animal and Rabies Control\, are pleased to announce two upcoming Rabies Vaccine and Microchip Clinics in which Cook County residents can protect the health and safety of their beloved pets. &nbsp\;</span><br />\n	&nbsp\;<br />\n	<span style="color: black">The clinics\, taking place Tuesday and Wednesday\,&nbsp\;August 23 and 24&nbsp\;from&nbsp\;10:00am to 2:45pm\, will allow owners of dogs\, cats and ferrets ages 3 months and up the opportunity to get their pets low cost rabies vaccines as well as microchip placements. &nbsp\;Pet owners must be <em>Cook County residents with a valid ID</em>\, and the clinics accept <em>cash or check only</em>.</span></span></span></p>\n
LOCATION:19th Police District parking lot Campbell\, 2452 W. Belmont
UID:e.697.1339
SEQUENCE:3
DTSTAMP:20260420T123100Z
URL:https://www.lincolnsquare.org/events/details/pet-vaccine-and-microchip-clinic-1339
END:VEVENT

END:VCALENDAR
