BEGIN:VCALENDAR
VERSION:2.0
PRODID:-//ChamberMaster//Event Calendar 2.0//EN
METHOD:PUBLISH
X-PUBLISHED-TTL:P3D
REFRESH-INTERVAL:P3D
CALSCALE:GREGORIAN
BEGIN:VEVENT
DTSTART:20120304T200000Z
DTEND:20120304T230000Z
X-MICROSOFT-CDO-ALLDAYEVENT:FALSE
SUMMARY:Peterson Garden Project Seed Swap
DESCRIPTION:The Peterson Garden Project is sponsoring their annual seed swap this Sunday\, March 4\, 2:00 to 5:00 p.m.\, at Swedish Covenant Hospital's Galter Pavilion\, Second Floor\, 5140 N. California. \n\n	There is no cost for admission. \n\n	Trade your eggplant for zucchini\, your cucumber for tomato. In addition to the seed exchange\, there will also be opportunities to learn about planting\, edible seeds\, heirloom vegetables\, and more. \n\n	Peterson Garden Project volunteers will be on hand to discuss their three new community gardens for 2012. Details on sign-up to reserve garden plots will come mid-March\; sign up for the Peterson Garden Project newsletter or follow their Facebook page for the latest information on the 2012 growing season. \n\n	Dues are $65 and include a 10' x 4' raised bed with organic soil\, mentoring from master gardeners and access to the project's learning programs.
X-ALT-DESC;FMTTYPE=text/html:<p align="left">\n	&nbsp\;</p>\n<p>\n	<font size="2">The Peterson Garden Project is sponsoring their annual seed swap this Sunday\, March 4\, 2:00 to 5:00 p.m.\, at Swedish Covenant Hospital&rsquo\;s Galter Pavilion\, Second Floor\, 5140 N. California. </font></p>\n<p>\n	<font size="2">There is no cost for admission. </font></p>\n<p>\n	<font size="2">Trade your eggplant for zucchini\, your cucumber for tomato. In addition to the seed exchange\, there will also be opportunities to learn about planting\, edible seeds\, heirloom vegetables\, and more. </font></p>\n<p>\n	<font size="2">Peterson Garden Project volunteers will be on hand to discuss their three new community gardens for 2012. Details on sign-up to reserve garden plots will come mid-March\; sign up for the Peterson Garden Project newsletter or follow their Facebook page for the latest information on the 2012 growing season. </font></p>\n<p>\n	<font size="2">Dues are $65 and include a 10&rsquo\; x 4&rsquo\; raised bed with organic soil\, mentoring from master gardeners and access to the project&rsquo\;s learning programs. <span _fck_bookmark="1" style="display: none">&nbsp\;</span></font></p>\n
LOCATION:Galter Pavilion\, 2nd Floor\, 5140 N. California.
UID:e.697.2482
SEQUENCE:3
DTSTAMP:20260420T032045Z
URL:https://www.lincolnsquare.org/events/details/peterson-garden-project-seed-swap-2482
END:VEVENT

END:VCALENDAR
