BEGIN:VCALENDAR
VERSION:2.0
PRODID:-//ChamberMaster//Event Calendar 2.0//EN
METHOD:PUBLISH
X-PUBLISHED-TTL:P3D
REFRESH-INTERVAL:P3D
CALSCALE:GREGORIAN
BEGIN:VEVENT
DTSTART;VALUE=DATE:20120323
DTEND;VALUE=DATE:20120325
TRANSP:TRANSPARENT
X-MICROSOFT-CDO-ALLDAYEVENT:TRUE
SUMMARY:Pickle's Playroom 1st Year Extravaganza
DESCRIPTION:Pickle's Playroom 1st Year Extravaganza\n\nJoin us to celebrate as Pickle's Playroom turns 1. We have enjoyed meeting everyone over this past year and have a lot of great activities planned on March 23 and 24 throughout the day. (Activities included with Play Admission)\n\n\n\nFriday March 23rd:\n\n10am - Face Painting\n\n\n\n11am - The Play Mechanics\n\n\n\n3pm - Mr. Dave Music Show\n\n\n\n3-5pm - Caricature Drawings\n\n\n\nSaturday March 24th:\n\n10am - Face Painting\n\n\n\n10:30 - Super Pickle Appearance and Balloon Drop\n\n\n\n11am - Cake\, and Goodie Bags\n\n\n\n3pm - Balloon Twister
X-ALT-DESC;FMTTYPE=text/html:<span style="color:#008000\;"><span style="font-size:16px\;"><strong>Pickle&#39\;s Playroom 1st Year Extravaganza</strong></span></span><br />\nJoin us to celebrate as Pickle&#39\;s Playroom turns 1. We have enjoyed meeting everyone over this past year and have a lot of great activities planned on March 23 and 24 throughout the day. <span style="color:#0000ff\;">(Activities included with Play Admission)</span><br />\n<br />\n<strong>Friday March 23rd:</strong><br />\n10am - Face Painting<br />\n<br />\n11am - The Play Mechanics<br />\n<br />\n3pm - Mr. Dave Music Show<br />\n<br />\n3-5pm - Caricature Drawings<br />\n<br />\n<strong>Saturday March 24th:</strong><br />\n10am - Face Painting<br />\n<br />\n10:30 - Super Pickle Appearance and Balloon Drop<br />\n<br />\n11am - Cake\, and Goodie Bags<br />\n<br />\n3pm - Balloon Twister
LOCATION:Pickle's Playroom - 2315 W. Lawrence Ave.\, Chicago IL 60625
UID:e.697.2510
SEQUENCE:3
DTSTAMP:20260420T015201Z
URL:https://www.lincolnsquare.org/events/details/pickle-s-playroom-1st-year-extravaganza-2510
END:VEVENT

END:VCALENDAR
