BEGIN:VCALENDAR
VERSION:2.0
PRODID:-//ChamberMaster//Event Calendar 2.0//EN
METHOD:PUBLISH
X-PUBLISHED-TTL:P3D
REFRESH-INTERVAL:P3D
CALSCALE:GREGORIAN
BEGIN:VEVENT
DTSTART:20110409T141500Z
DTEND:20110409T151500Z
X-MICROSOFT-CDO-ALLDAYEVENT:FALSE
SUMMARY:PILATES
DESCRIPTION:Banish the Bratwurst bulge\, bring a mat! Every Saturday!\n\nAdmission $10\n\nFREE parking at MB Financial Bank at Western and Gunnison.\n\nwww.dankhaus.com
X-ALT-DESC;FMTTYPE=text/html:Banish the Bratwurst bulge\, bring a mat! Every Saturday!\n<br>Admission $10\n<br>FREE parking at MB Financial Bank at Western and Gunnison.\n<br>www.dankhaus.com\n<br>
LOCATION:DANK Haus German American Cultural Center 4740 N Western Ave
UID:e.697.823
SEQUENCE:3
DTSTAMP:20260420T193214Z
URL:https://www.lincolnsquare.org/events/details/pilates-823
END:VEVENT

END:VCALENDAR
