BEGIN:VCALENDAR
VERSION:2.0
PRODID:-//ChamberMaster//Event Calendar 2.0//EN
METHOD:PUBLISH
X-PUBLISHED-TTL:P3D
REFRESH-INTERVAL:P3D
CALSCALE:GREGORIAN
BEGIN:VEVENT
DTSTART:20111020T230000Z
DTEND:20111021T010000Z
X-MICROSOFT-CDO-ALLDAYEVENT:FALSE
SUMMARY:Pink Hair For Hope - Breast Cancer Fundraising Event at Bellybum
DESCRIPTION:Join Bellybum Boutique for a \n\n	PINK HAIR FOR HOPE \n\n	Breast Cancer Fundraising Event!\n\n	Thursday\, October 20th\n\n	6:00pm - 8:00pm\n\n	 \n\n\n	Sip champagne\, get pinked\, and shop the night away to benefit breast cancer awareness research...\n\n	\n\n	ALL WELCOME... BRING YOUR KIDS!\n\n\n	\n\n	Lisa Whitefield of Raymond's Hair Design will be doing\n\n	$10 Pink Hair Extensions\n\n	&\n\n	$20 Pink Feathers\n\n	to benefit Pink Hair for Hope!\n\n	+\n\n	10% of Bellybum Sales\n\n	will be donated to Pink Hair for Hope\n\n	+\n\n	20% if the proceeds\n\n	of Stella & Dot's NEW Tribute Bracelets will be donated to the Breast Cancer Research Foundation
X-ALT-DESC;FMTTYPE=text/html:<p style="text-align: center">\n	<span style="color: #ff00ff"><span style="font-size: 16px"><strong><span style="background-color: #ffffff">Join Bellybum Boutique&nbsp\;for a </span></strong></span><br />\n	<span style="font-size: 16px"><strong><span style="background-color: #ffffff">PINK HAIR FOR HOPE </span></strong></span></span><br />\n	<span style="color: #ff00ff"><span style="font-size: 16px"><strong><span style="background-color: #ffffff">Breast Cancer Fundraising Event!</span></strong><br />\n	<em><span style="background-color: #ffffff">Thursday\, October 20th</span><br />\n	<span style="background-color: #ffffff">6:00pm - 8:00pm</span></em></span></span><br />\n	&nbsp\;</p>\n<hr />\n<p style="text-align: center">\n	<strong><span style="font-size: 12px"><span style="color: #ff00ff">Sip champagne\, get pinked\, and shop the night away to benefit breast cancer awareness research...</span><br />\n	<br />\n	<span style="color: #4b0082">ALL WELCOME... BRING YOUR KIDS!</span></span></strong></p>\n<hr />\n<p style="text-align: center">\n	<br />\n	<span style="font-size: 12px"><span style="color: #b22222"><strong>Lisa Whitefield </strong>of Raymond&#39\;s Hair Design will be doing</span><br />\n	<span style="font-size: 16px"><span style="color: #ff00ff">$10 Pink Hair Extensions</span><br />\n	<strong><span style="color: #b22222">&amp\;</span></strong><br />\n	<span style="color: #ff00ff">$20 Pink Feathers</span></span><br />\n	<span style="color: #b22222">to benefit <u>Pink Hair for Hope</u>!</span><br />\n	<strong><span style="color: #b22222">+</span></strong><br />\n	<span style="color: #ff00ff"><span style="font-size: 16px">10% of Bellybum Sales</span></span><br />\n	<span style="color: #b22222">will be donated to Pink Hair for Hope</span><br />\n	<strong><span style="color: #b22222">+</span></strong><br />\n	<span style="color: #ff00ff"><span style="font-size: 16px">20% if the proceeds</span></span><br />\n	<span style="color: #b22222">of <strong>Stella &amp\; Dot&#39\;s </strong>NEW Tribute Bracelets will be donated to the <u>Breast Cancer Research Foundation</u></span></span></p>\n
LOCATION:Bellybum Boutique 4347 N. Lincoln Avenue
UID:e.697.2171
SEQUENCE:3
DTSTAMP:20260420T100818Z
URL:https://www.lincolnsquare.org/events/details/pink-hair-for-hope-breast-cancer-fundraising-event-at-bellybum-2171
END:VEVENT

END:VCALENDAR
