BEGIN:VCALENDAR
VERSION:2.0
PRODID:-//ChamberMaster//Event Calendar 2.0//EN
METHOD:PUBLISH
X-PUBLISHED-TTL:P3D
REFRESH-INTERVAL:P3D
CALSCALE:GREGORIAN
BEGIN:VEVENT
DTSTART:20110624T000000Z
DTEND:20110624T020000Z
X-MICROSOFT-CDO-ALLDAYEVENT:FALSE
SUMMARY:Pro-Holistic Institute Grand Opening Event
DESCRIPTION:WE MOVED!\n\n	\n\n	Bring a friend and join us for appetizers and drinks to celebrate our grand opening at our new location.  Meet the doctors and learn about the services we provide.
X-ALT-DESC;FMTTYPE=text/html:<p style="margin-top: 0pt\; margin-bottom: 0pt\; margin-left: 0in\; text-align: center\; direction: ltr\; unicode-bidi: embed\;">\n	<span style="font-size: 14px\;"><span style="font-family: Batang\; color: rgb(148\, 138\, 84)\; font-weight: bold\;">WE MOVED!</span></span></p>\n<p style="margin-top: 0pt\; margin-bottom: 0pt\; margin-left: 0in\; text-align: center\; direction: ltr\; unicode-bidi: embed\;">\n	<br />\n	<span style="font-size: 14px\;"><span style="font-family: Calibri\; color: rgb(192\, 80\, 77)\; font-weight: bold\;">Bring a friend and </span><span style="font-family: Calibri\; color: rgb(192\, 80\, 77)\; font-weight: bold\;">j</span><span style="font-family: Calibri\; color: rgb(192\, 80\, 77)\; font-weight: bold\;">oin us for appetizers and drinks to celebrate our grand opening at our new location.<span>&nbsp\; </span>Meet the doctors and learn about the services we provide.</span></span></p>\n
LOCATION:4750 N. Rockwell Chicago\, IL 60625
UID:e.697.1039
SEQUENCE:3
DTSTAMP:20260420T160203Z
URL:https://www.lincolnsquare.org/events/details/pro-holistic-institute-grand-opening-event-1039
END:VEVENT

END:VCALENDAR
