BEGIN:VCALENDAR
VERSION:2.0
PRODID:-//ChamberMaster//Event Calendar 2.0//EN
METHOD:PUBLISH
X-PUBLISHED-TTL:P3D
REFRESH-INTERVAL:P3D
CALSCALE:GREGORIAN
BEGIN:VEVENT
DTSTART;VALUE=DATE:20110916
DTEND;VALUE=DATE:20110918
TRANSP:TRANSPARENT
X-MICROSOFT-CDO-ALLDAYEVENT:TRUE
SUMMARY:Queen of Angels Harvest Jam
DESCRIPTION:Queen of Angels Harvest Jam is an autumn Homecoming festival which strives to be a community building event between school families\, parishoners & our Lincoln Square neighbors. Everyone is welcome! \n\n\n\nEvent highlights include: Food & treats by Houndstooth Saloon and Windsor Ice Cream Shoppe\, beer/wine tent\, children's crafts\, games & activities\, a scarecrow contest & silent auction\, adult bean bags tourney\, 6th annual Grill Master's challenge\, chili cook-off and apple pie contest and non-stop live music.\n\n\n\nHeadliners include Diving for Dynamite on Friday night and Jaked on Saturday night. There will also be karaoke & guitar hero for the kids.\n\n\n\nAs part of Queen of Angels green initiative\, we will be featuring  "A Piece of the Picture" student art mosaic supported by Mitch Pennell of Chicago Lost & Found. Chicago Lost & Found is a not-for-profit organization which uses repurposed items to create artwork.\n\n\n\nTickets are $10 for adults and $5 for children 14 and under. Children's wristbands will be available for $20. Wristbands include 5 tickets and unlimited access to most children's games & activities.
X-ALT-DESC;FMTTYPE=text/html:Queen of Angels Harvest Jam is&nbsp\;an autumn Homecoming festival which strives to be a&nbsp\;community building event between school families\, parishoners &amp\; our Lincoln Square neighbors.&nbsp\;Everyone is welcome!&nbsp\;<br />\n<br />\nEvent highlights include: Food &amp\; treats by Houndstooth Saloon and Windsor Ice Cream Shoppe\, beer/wine tent\, children&#39\;s crafts\, games &amp\; activities\,&nbsp\;a scarecrow contest &amp\; silent auction\, adult bean bags tourney\, 6th annual Grill Master&#39\;s challenge\, chili cook-off and apple pie contest and non-stop live music.<br />\n<br />\nHeadliners include <strong>Diving for Dynamite </strong>on Friday night and <strong>Jaked </strong>on Saturday night. There will also be karaoke &amp\; guitar hero for the kids.<br />\n<br />\nAs part of Queen of Angels green initiative\, we will be featuring &nbsp\;&quot\;A Piece of the Picture&quot\; student art mosaic supported by Mitch Pennell of Chicago Lost &amp\; Found. Chicago Lost &amp\; Found is a not-for-profit organization which uses repurposed items to create artwork.<br />\n<br />\nTickets are $10 for adults and $5 for children 14 and under. Children&#39\;s wristbands will be available for $20. Wristbands include 5 tickets and unlimited access to most children&#39\;s games &amp\; activities. 
LOCATION:Queen of Angels School & Parish parking lot. Corner of Sunnyside & Western Avenues.
UID:e.697.1904
SEQUENCE:3
DTSTAMP:20260420T112253Z
URL:https://www.lincolnsquare.org/events/details/queen-of-angels-harvest-jam-1904
END:VEVENT

END:VCALENDAR
