BEGIN:VCALENDAR
VERSION:2.0
PRODID:-//ChamberMaster//Event Calendar 2.0//EN
METHOD:PUBLISH
X-PUBLISHED-TTL:P3D
REFRESH-INTERVAL:P3D
CALSCALE:GREGORIAN
BEGIN:VEVENT
DTSTART:20120229T140000Z
DTEND:20120229T153000Z
X-MICROSOFT-CDO-ALLDAYEVENT:FALSE
SUMMARY:Ravenswood Businesses Meet and Greet
DESCRIPTION:Join us and get to know The Lincoln Square Chamber of Commerce.  The Chamber invites you to join us for coffee\, pastries\, and conversation at Lillstreet Art Center located at 4401 N. Ravenswood.
X-ALT-DESC;FMTTYPE=text/html:Join us and get to know The Lincoln Square Chamber of Commerce.&nbsp\; The Chamber&nbsp\;invites you to join us for coffee\, pastries\, and conversation at Lillstreet Art Center located at 4401 N. Ravenswood.&nbsp\; 
LOCATION:Lillstreet Art Center 4401 N. Ravenswood.
UID:e.697.2479
SEQUENCE:3
DTSTAMP:20260420T050056Z
URL:https://www.lincolnsquare.org/events/details/ravenswood-businesses-meet-and-greet-2479
END:VEVENT

END:VCALENDAR
